BEGIN:VCALENDAR
VERSION:2.0
PRODID:-//Houston Peace &amp; Justice Center - ECPv6.15.20//NONSGML v1.0//EN
CALSCALE:GREGORIAN
METHOD:PUBLISH
X-ORIGINAL-URL:https://hpjc.org
X-WR-CALDESC:Events for Houston Peace &amp; Justice Center
REFRESH-INTERVAL;VALUE=DURATION:PT1H
X-Robots-Tag:noindex
X-PUBLISHED-TTL:PT1H
BEGIN:VTIMEZONE
TZID:America/Chicago
BEGIN:DAYLIGHT
TZOFFSETFROM:-0600
TZOFFSETTO:-0500
TZNAME:CDT
DTSTART:20250309T080000
END:DAYLIGHT
BEGIN:STANDARD
TZOFFSETFROM:-0500
TZOFFSETTO:-0600
TZNAME:CST
DTSTART:20251102T070000
END:STANDARD
BEGIN:DAYLIGHT
TZOFFSETFROM:-0600
TZOFFSETTO:-0500
TZNAME:CDT
DTSTART:20260308T080000
END:DAYLIGHT
BEGIN:STANDARD
TZOFFSETFROM:-0500
TZOFFSETTO:-0600
TZNAME:CST
DTSTART:20261101T070000
END:STANDARD
BEGIN:DAYLIGHT
TZOFFSETFROM:-0600
TZOFFSETTO:-0500
TZNAME:CDT
DTSTART:20270314T080000
END:DAYLIGHT
BEGIN:STANDARD
TZOFFSETFROM:-0500
TZOFFSETTO:-0600
TZNAME:CST
DTSTART:20271107T070000
END:STANDARD
END:VTIMEZONE
BEGIN:VEVENT
DTSTART;TZID=America/Chicago:20260112T030000
DTEND;TZID=America/Chicago:20260523T025959
DTSTAMP:20260421T061238
CREATED:20260102T165004Z
LAST-MODIFIED:20260312T174319Z
UID:10002397-1768186800-1779505199@hpjc.org
SUMMARY:Living the Change
DESCRIPTION:Scientists tell us that we must reduce our greenhouse gas emissions by 50% by 2030 (vs. a 2010 baseline)\, and that 25 – 30% of all needed emissions reductions must come from individuals/households. 50% may seem like a very high hurdle. But\, it translates to only a 10%/year reduction\, starting now. And\, you may have already made some lifestyle improvements since 2010 that reduced your emissions\, so you could already be well on your way toward the 50% reduction goal.   \n\n\n\nParticipants in this individualized course will leave with a personal plan to achieve the 50% emissions reduction goal through targeted lifestyle improvements that will also save them money. The course was developed in response to the Walk on Earth Gently multifaith statement\, inspired by religious teachings to turn away from consumerism & to seek balanced relationships with all people and the planet. Walk on Earth Gently invites you into a journey of Living the Change that the world needs. This program will work individually with participants\, on dates and times that work for both them and the facilitator.  Those already far along on their carbon footprint reduction journey may only need a few sessions with the facilitator to complete their 50% carbon footprint reduction plan\, whereas others may need more sessions.  Accept the Walk on Earth Gently invitation and commit to a sustainable lifestyle.   \n\n\n\nRegister for this course on www.eventbrite.com at: https://www.eventbrite.com/e/1975018418255.  \n\n\n\nFor more information\, please contact Lisa Brenskelle at gcs.lrc@gmail.com.
URL:https://hpjc.org/event/living-the-change-3/
LOCATION:online\, not applicable\, not applicable\, not applicable\, United States
CATEGORIES:Environmental & Environmental Justice
ATTACH;FMTTYPE=image/png:https://hpjc.org/wp-content/uploads/2025/12/delivery-of-Walk-on-Earth-Gently-statement.png
ORGANIZER;CN="Interfaith Environmental Network of Houston":MAILTO:gcs.lrc@gmail.com
GEO:38.888684;-77.004719
X-APPLE-STRUCTURED-LOCATION;VALUE=URI;X-ADDRESS=online not applicable not applicable not applicable United States;X-APPLE-RADIUS=500;X-TITLE=not applicable:geo:-77.004719,38.888684
END:VEVENT
BEGIN:VEVENT
DTSTART;TZID=America/Chicago:20260301T150000
DTEND;TZID=America/Chicago:20260301T163000
DTSTAMP:20260421T061238
CREATED:20260312T165730Z
LAST-MODIFIED:20260312T165736Z
UID:10002431-1772377200-1772382600@hpjc.org
SUMMARY:Pocket Prairies for Faith Communities
DESCRIPTION:What is a pocket prairie and why would you want one at your faith community? If your faith community is maintaining lawn that it does not use\, join us online to learn about pocket prairies\, their benefits\, and how to create and maintain one. Lan Shen\, Seed Collection Manager and Great Grow Out Coordinator for the Coastal Prairie Conservancy\, will describe pocket prairies\, how they can benefit your faith community\, the larger community\, and the environment. Beth Clark\, Landscape Architect\, will discuss how to create and maintain pocket prairies. \nA hands-on workshop for those faith communities interested in creating pocket prairies at their houses of worship will follow in May\, with a pocket prairie planting planned for Fall 2026. Time for Q&A with the speakers will follow the talk. All who register will get a link to a recording of the talk. \nPlease register on www.eventbrite.com at https://www.eventbrite.com/e/pocket-prairies-for-faith-communities-tickets-1981066939545. The WebEx platform will be used for this virtual event – all registrants will get an e-mail invitation to the WebEx. \nContact Lisa Brenskelle at gcs.lrc@gmail.com with any questions. \n 
URL:https://hpjc.org/event/pocket-prairies-for-faith-communities-2/
LOCATION:online\, not applicable\, not applicable\, not applicable\, United States
CATEGORIES:Environmental & Environmental Justice,Presentation or Lecture
ATTACH;FMTTYPE=image/jpeg:https://hpjc.org/wp-content/uploads/2026/02/speakers-for-March-2026-IENoH.jpg
ORGANIZER;CN="Interfaith Environmental Network of Houston":MAILTO:gcs.lrc@gmail.com
GEO:38.888684;-77.004719
X-APPLE-STRUCTURED-LOCATION;VALUE=URI;X-ADDRESS=online not applicable not applicable not applicable United States;X-APPLE-RADIUS=500;X-TITLE=not applicable:geo:-77.004719,38.888684
END:VEVENT
BEGIN:VEVENT
DTSTART;TZID=America/Chicago:20260305T180000
DTEND;TZID=America/Chicago:20260305T190000
DTSTAMP:20260421T061238
CREATED:20260312T172847Z
LAST-MODIFIED:20260312T172854Z
UID:10002416-1772733600-1772737200@hpjc.org
SUMMARY:Changing by Choice
DESCRIPTION:If we know what we need to do\, why do we fail to do it?This study invites us to apply this age-old question of faith to the problem of climate change. The study features videos recorded at the global climate negotiations in November 2025 and introduces the Global Ethical Stocktake\, a discussion framework developed in 2025 to guide a global conversation on the ethics of climate change. With grace and urgency\, this study will open space to ask hard questions and gain insights into the issue of climate change—and our responsibilities to each other. \n\n\n\nChanging by Choice considers climate change as it intersects with other core concerns for faith communities\, including hunger; migration; disaster response; and violent conflict. And\, using the Global Ethical Stocktake framework\, it brings your group into conversation with people in local communities around the world. \n\n\n\nJoin the discussion by registering on eventbrite at: https://www.eventbrite.com/e/1979825213509.  \n\n\n\nContact Lisa Brenskelle at gcs.lrc@gmail.com with any questions about this class.
URL:https://hpjc.org/event/changing-by-choice-2/
LOCATION:online\, not applicable\, not applicable\, not applicable\, United States
CATEGORIES:Environmental & Environmental Justice
ATTACH;FMTTYPE=image/png:https://hpjc.org/wp-content/uploads/2026/01/Chaning-by-choice-logo.png
ORGANIZER;CN="Christ the King Evangelical Lutheran Church":MAILTO:ctk@ctkelc.org
GEO:38.888684;-77.004719
X-APPLE-STRUCTURED-LOCATION;VALUE=URI;X-ADDRESS=online not applicable not applicable not applicable United States;X-APPLE-RADIUS=500;X-TITLE=not applicable:geo:-77.004719,38.888684
END:VEVENT
BEGIN:VEVENT
DTSTART;TZID=America/Chicago:20260312T180000
DTEND;TZID=America/Chicago:20260312T190000
DTSTAMP:20260421T061238
CREATED:20260312T172703Z
LAST-MODIFIED:20260312T172706Z
UID:10002417-1773338400-1773342000@hpjc.org
SUMMARY:Changing by Choice
DESCRIPTION:If we know what we need to do\, why do we fail to do it?This study invites us to apply this age-old question of faith to the problem of climate change. The study features videos recorded at the global climate negotiations in November 2025 and introduces the Global Ethical Stocktake\, a discussion framework developed in 2025 to guide a global conversation on the ethics of climate change. With grace and urgency\, this study will open space to ask hard questions and gain insights into the issue of climate change—and our responsibilities to each other. \n\n\n\nChanging by Choice considers climate change as it intersects with other core concerns for faith communities\, including hunger; migration; disaster response; and violent conflict. And\, using the Global Ethical Stocktake framework\, it brings your group into conversation with people in local communities around the world. \n\n\n\nJoin the discussion by registering on eventbrite at: https://www.eventbrite.com/e/197982521350 \n\n\n\nContact Lisa Brenskelle at gcs.lrc@gmail.com with any questions about this class.
URL:https://hpjc.org/event/changing-by-choice/2026-03-12/
LOCATION:online\, not applicable\, not applicable\, not applicable\, United States
CATEGORIES:Environmental & Environmental Justice
ATTACH;FMTTYPE=image/png:https://hpjc.org/wp-content/uploads/2026/01/Chaning-by-choice-logo.png
ORGANIZER;CN="Christ the King Evangelical Lutheran Church":MAILTO:ctk@ctkelc.org
GEO:38.888684;-77.004719
X-APPLE-STRUCTURED-LOCATION;VALUE=URI;X-ADDRESS=online not applicable not applicable not applicable United States;X-APPLE-RADIUS=500;X-TITLE=not applicable:geo:-77.004719,38.888684
END:VEVENT
BEGIN:VEVENT
DTSTART;TZID=America/Chicago:20260317T180000
DTEND;TZID=America/Chicago:20260317T190000
DTSTAMP:20260421T061238
CREATED:20260312T172128Z
LAST-MODIFIED:20260312T172130Z
UID:10002429-1773770400-1773774000@hpjc.org
SUMMARY:Drawdown Roadmap
DESCRIPTION:You may know that there are many possible solutions to combat climate change.  But\, how do we focus our efforts\, create the most effective plan and really make a difference on climate before it’s too late? The Drawdown Roadmap is a science-based strategy for accelerating climate solutions\, pointing to which climate actions governments\, businesses\, investors\, philanthropists\, community organizations\, and others should prioritize to make the most of our efforts to stop climate change. Attend this 4-week course to understand the roadmap\, and consider how to actualize it in your business\, community organization\, investments and more.   \n\n\n\nTo learn more/register\, see: https://www.eventbrite.com/e/1979231330188.  \n\n\n\nContact Lisa Brenskelle at gcs.lrc@gmail.com for more information.
URL:https://hpjc.org/event/drawdown-roadmap-4/
LOCATION:online\, not applicable\, not applicable\, not applicable\, United States
CATEGORIES:Environmental & Environmental Justice,Foreign & Military Policy,Video Showing
ATTACH;FMTTYPE=image/png:https://hpjc.org/wp-content/uploads/2026/01/DrawdownRoadmap_KeyGraphics08_2x-scaled.png
ORGANIZER;CN="Interfaith Environmental Network of Houston":MAILTO:gcs.lrc@gmail.com
GEO:38.888684;-77.004719
X-APPLE-STRUCTURED-LOCATION;VALUE=URI;X-ADDRESS=online not applicable not applicable not applicable United States;X-APPLE-RADIUS=500;X-TITLE=not applicable:geo:-77.004719,38.888684
END:VEVENT
BEGIN:VEVENT
DTSTART;TZID=America/Chicago:20260319T180000
DTEND;TZID=America/Chicago:20260319T190000
DTSTAMP:20260421T061238
CREATED:20260312T172703Z
LAST-MODIFIED:20260312T172706Z
UID:10002418-1773943200-1773946800@hpjc.org
SUMMARY:Changing by Choice
DESCRIPTION:If we know what we need to do\, why do we fail to do it?This study invites us to apply this age-old question of faith to the problem of climate change. The study features videos recorded at the global climate negotiations in November 2025 and introduces the Global Ethical Stocktake\, a discussion framework developed in 2025 to guide a global conversation on the ethics of climate change. With grace and urgency\, this study will open space to ask hard questions and gain insights into the issue of climate change—and our responsibilities to each other. \n\n\n\nChanging by Choice considers climate change as it intersects with other core concerns for faith communities\, including hunger; migration; disaster response; and violent conflict. And\, using the Global Ethical Stocktake framework\, it brings your group into conversation with people in local communities around the world. \n\n\n\nJoin the discussion by registering on eventbrite at: https://www.eventbrite.com/e/197982521350 \n\n\n\nContact Lisa Brenskelle at gcs.lrc@gmail.com with any questions about this class.
URL:https://hpjc.org/event/changing-by-choice/2026-03-19/
LOCATION:online\, not applicable\, not applicable\, not applicable\, United States
CATEGORIES:Environmental & Environmental Justice
ATTACH;FMTTYPE=image/png:https://hpjc.org/wp-content/uploads/2026/01/Chaning-by-choice-logo.png
ORGANIZER;CN="Christ the King Evangelical Lutheran Church":MAILTO:ctk@ctkelc.org
GEO:38.888684;-77.004719
X-APPLE-STRUCTURED-LOCATION;VALUE=URI;X-ADDRESS=online not applicable not applicable not applicable United States;X-APPLE-RADIUS=500;X-TITLE=not applicable:geo:-77.004719,38.888684
END:VEVENT
BEGIN:VEVENT
DTSTART;TZID=America/Chicago:20260326T180000
DTEND;TZID=America/Chicago:20260326T190000
DTSTAMP:20260421T061238
CREATED:20260312T172703Z
LAST-MODIFIED:20260312T172706Z
UID:10002419-1774548000-1774551600@hpjc.org
SUMMARY:Changing by Choice
DESCRIPTION:If we know what we need to do\, why do we fail to do it?This study invites us to apply this age-old question of faith to the problem of climate change. The study features videos recorded at the global climate negotiations in November 2025 and introduces the Global Ethical Stocktake\, a discussion framework developed in 2025 to guide a global conversation on the ethics of climate change. With grace and urgency\, this study will open space to ask hard questions and gain insights into the issue of climate change—and our responsibilities to each other. \n\n\n\nChanging by Choice considers climate change as it intersects with other core concerns for faith communities\, including hunger; migration; disaster response; and violent conflict. And\, using the Global Ethical Stocktake framework\, it brings your group into conversation with people in local communities around the world. \n\n\n\nJoin the discussion by registering on eventbrite at: https://www.eventbrite.com/e/197982521350 \n\n\n\nContact Lisa Brenskelle at gcs.lrc@gmail.com with any questions about this class.
URL:https://hpjc.org/event/changing-by-choice/2026-03-26/
LOCATION:online\, not applicable\, not applicable\, not applicable\, United States
CATEGORIES:Environmental & Environmental Justice
ATTACH;FMTTYPE=image/png:https://hpjc.org/wp-content/uploads/2026/01/Chaning-by-choice-logo.png
ORGANIZER;CN="Christ the King Evangelical Lutheran Church":MAILTO:ctk@ctkelc.org
GEO:38.888684;-77.004719
X-APPLE-STRUCTURED-LOCATION;VALUE=URI;X-ADDRESS=online not applicable not applicable not applicable United States;X-APPLE-RADIUS=500;X-TITLE=not applicable:geo:-77.004719,38.888684
END:VEVENT
BEGIN:VEVENT
DTSTART;TZID=America/Chicago:20260329T143000
DTEND;TZID=America/Chicago:20260329T160000
DTSTAMP:20260421T061238
CREATED:20260312T170403Z
LAST-MODIFIED:20260312T170408Z
UID:10002450-1774794600-1774800000@hpjc.org
SUMMARY:Going solar on your own or together - SUN is here to help
DESCRIPTION:Whether you want to learn solar basics or how to incorporate storage into your existing solar array\, Solar United Neighbors (SUN)\, a 501c3\, can help. Join Dori Wolfe\, Senior Texas Program Associate with SUN\, to learn the advantages of going solar together as a group\, or the flexibility of going solar on your own. Learn what a Virtual Power Plant is and the different ways it can help with grid resiliency and more. Houses of worship are encouraged to participate in this event.  An opportunity for Q&A with the speaker will follow. \nRegister for this event on www.eventbrite.com at: https://www.eventbrite.com/e/1984578855781. All registrants will receive the recording of the event. Note that Eventbrite is used for ticketing only.  All registrants will get an e-mailed link to join the WebEx web meeting. \nFor more information about this event\, please contact Lisa Brenskelle at gcs.lrc@gmail.com.
URL:https://hpjc.org/event/going-solar-on-your-own-or-together-sun-is-here-to-help/
LOCATION:online\, not applicable\, not applicable\, not applicable\, United States
CATEGORIES:Environmental & Environmental Justice,Presentation or Lecture
ATTACH;FMTTYPE=image/jpeg:https://hpjc.org/wp-content/uploads/2026/03/Dori-Wolfe-latest-photo.jpg
ORGANIZER;CN="Interfaith Environmental Network of Houston":MAILTO:gcs.lrc@gmail.com
GEO:38.888684;-77.004719
X-APPLE-STRUCTURED-LOCATION;VALUE=URI;X-ADDRESS=online not applicable not applicable not applicable United States;X-APPLE-RADIUS=500;X-TITLE=not applicable:geo:-77.004719,38.888684
END:VEVENT
BEGIN:VEVENT
DTSTART;TZID=America/Chicago:20260329T180000
DTEND;TZID=America/Chicago:20260329T190000
DTSTAMP:20260421T061238
CREATED:20260312T171000Z
LAST-MODIFIED:20260312T171006Z
UID:10002432-1774807200-1774810800@hpjc.org
SUMMARY:A Faithful and Hopeful Response to Willful Climate Denial Policies
DESCRIPTION:Since January 2025\, the President\, his Congressional yes-men/women\, and the courts have been systematically overturning existing legislation and passing new limitations on successful climate policies\, withdrawing from global commitments\, and gutting scientific funding that was making a difference in combatting the climate crisis.  At the same time\, many within the faith community have remained hopeful and are taking steps to counter these negative influences from the current administration.   \n\n\n\nIn this webinar\, join Mel Caraway\, retired United Methodist pastor\, as he looks at positive steps that are being taken to combat ecological uncertainty. Time for interactive discussion with the speaker will be provided.  \n\n\n\nPlease register for this talk on www.eventbrite.com at https://www.eventbrite.com/e/1981951471203. This virtual event will use the WebEx platform. Registrants will receive a separate e-mail with WebEx connection details.  All registrants will get a link to the recording of this talk.  \n\n\n\nContact Lisa Brenskelle at gcs.lrc@gmail.com with any questions.
URL:https://hpjc.org/event/a-faithful-and-hopeful-response-to-willful-climate-denial-policies/
LOCATION:online\, not applicable\, not applicable\, not applicable\, United States
CATEGORIES:Environmental & Environmental Justice,Presentation or Lecture
ATTACH;FMTTYPE=image/jpeg:https://hpjc.org/wp-content/uploads/2026/02/Mel-Caraway-photo.jpg
ORGANIZER;CN="Christ the King Evangelical Lutheran Church":MAILTO:ctk@ctkelc.org
GEO:38.888684;-77.004719
X-APPLE-STRUCTURED-LOCATION;VALUE=URI;X-ADDRESS=online not applicable not applicable not applicable United States;X-APPLE-RADIUS=500;X-TITLE=not applicable:geo:-77.004719,38.888684
END:VEVENT
END:VCALENDAR