BEGIN:VCALENDAR
VERSION:2.0
PRODID:-//Houston Peace &amp; Justice Center - ECPv6.15.20//NONSGML v1.0//EN
CALSCALE:GREGORIAN
METHOD:PUBLISH
X-ORIGINAL-URL:https://hpjc.org
X-WR-CALDESC:Events for Houston Peace &amp; Justice Center
REFRESH-INTERVAL;VALUE=DURATION:PT1H
X-Robots-Tag:noindex
X-PUBLISHED-TTL:PT1H
BEGIN:VTIMEZONE
TZID:America/Chicago
BEGIN:DAYLIGHT
TZOFFSETFROM:-0600
TZOFFSETTO:-0500
TZNAME:CDT
DTSTART:20210314T080000
END:DAYLIGHT
BEGIN:STANDARD
TZOFFSETFROM:-0500
TZOFFSETTO:-0600
TZNAME:CST
DTSTART:20211107T070000
END:STANDARD
BEGIN:DAYLIGHT
TZOFFSETFROM:-0600
TZOFFSETTO:-0500
TZNAME:CDT
DTSTART:20220313T080000
END:DAYLIGHT
BEGIN:STANDARD
TZOFFSETFROM:-0500
TZOFFSETTO:-0600
TZNAME:CST
DTSTART:20221106T070000
END:STANDARD
BEGIN:DAYLIGHT
TZOFFSETFROM:-0600
TZOFFSETTO:-0500
TZNAME:CDT
DTSTART:20230312T080000
END:DAYLIGHT
BEGIN:STANDARD
TZOFFSETFROM:-0500
TZOFFSETTO:-0600
TZNAME:CST
DTSTART:20231105T070000
END:STANDARD
END:VTIMEZONE
BEGIN:VEVENT
DTSTART;TZID=America/Chicago:20220402T020000
DTEND;TZID=America/Chicago:20220404T015959
DTSTAMP:20260421T211536
CREATED:20220317T053500Z
LAST-MODIFIED:20220317T053511Z
UID:10001252-1648864800-1649037599@hpjc.org
SUMMARY:Via Colori Houston 2022
DESCRIPTION:Enjoy this free\, family-friendly event in downtown. This time-honored street painting festival will again bring together hundreds of student\, amateur\, and professional artists to create beautiful chalk masterpieces while also celebrating Houston’s diversity. This event will also feature live music\, a children’s creative area\, and expansive hospitality options for a weekend of artistic expression and community connection. The event is from 9:00 am – 7:00 pm on Saturday and 9:00 am – 5:00 pm on Sunday. \nThe Institute for Spirituality and Health is the new charity beneficiary for this event. The event will raise awareness and funds to support The Institute and its education\, platforms\, and programs at the intersection of spirituality and health. They are also issuing a call for artists\, sponsors\, and volunteers.  \n 
URL:https://hpjc.org/event/via-colori-houston-2022/
LOCATION:POST HTX\, 401 Franklin St.\, Houston\, 77201
CATEGORIES:Fundraiser
ATTACH;FMTTYPE=image/jpeg:https://hpjc.org/wp-content/uploads/2022/02/elephant-1.jpg
ORGANIZER;CN="Institute for Spirituality and Health":MAILTO:info@ish-tmc.org
END:VEVENT
END:VCALENDAR