BEGIN:VCALENDAR
VERSION:2.0
PRODID:-//Houston Peace &amp; Justice Center - ECPv6.15.20//NONSGML v1.0//EN
CALSCALE:GREGORIAN
METHOD:PUBLISH
X-ORIGINAL-URL:https://hpjc.org
X-WR-CALDESC:Events for Houston Peace &amp; Justice Center
REFRESH-INTERVAL;VALUE=DURATION:PT1H
X-Robots-Tag:noindex
X-PUBLISHED-TTL:PT1H
BEGIN:VTIMEZONE
TZID:America/Chicago
BEGIN:DAYLIGHT
TZOFFSETFROM:-0600
TZOFFSETTO:-0500
TZNAME:CDT
DTSTART:20250309T080000
END:DAYLIGHT
BEGIN:STANDARD
TZOFFSETFROM:-0500
TZOFFSETTO:-0600
TZNAME:CST
DTSTART:20251102T070000
END:STANDARD
BEGIN:DAYLIGHT
TZOFFSETFROM:-0600
TZOFFSETTO:-0500
TZNAME:CDT
DTSTART:20260308T080000
END:DAYLIGHT
BEGIN:STANDARD
TZOFFSETFROM:-0500
TZOFFSETTO:-0600
TZNAME:CST
DTSTART:20261101T070000
END:STANDARD
BEGIN:DAYLIGHT
TZOFFSETFROM:-0600
TZOFFSETTO:-0500
TZNAME:CDT
DTSTART:20270314T080000
END:DAYLIGHT
BEGIN:STANDARD
TZOFFSETFROM:-0500
TZOFFSETTO:-0600
TZNAME:CST
DTSTART:20271107T070000
END:STANDARD
END:VTIMEZONE
BEGIN:VEVENT
DTSTART;TZID=America/Chicago:20260201T140000
DTEND;TZID=America/Chicago:20260201T153000
DTSTAMP:20260424T205151
CREATED:20260102T164804Z
LAST-MODIFIED:20260102T164811Z
UID:10002408-1769954400-1769959800@hpjc.org
SUMMARY:Harris County Climate Justice Plan
DESCRIPTION:Join Lisa Lin\, Harris County’s Director of Sustainability\, as she provides an overview of the Harris County Climate Justice Plan\, the first plan of its kind in the U.S. approved at the county level. In her talk\, Lisa will share how co-leading the plan development with the Coalition for Environment\, Equity\, and Resilience (CEER) shaped the outcome of the plan and how that approach has informed the implementation phase\, which is still rooted in community-determined\, community-led solutions. Learn how your faith community can engage in the Harris County Climate Justice Plan! An opportunity for Q&A with the speaker will follow. Register for this event on www.eventbrite.com at: https://www.eventbrite.com/e/1976666855776. All registrants will receive the recording of the event. For more information about this event\, please contact Lisa Brenskelle at gcs.lrc@gmail.com.
URL:https://hpjc.org/event/harris-county-climate-justice-plan/
LOCATION:online\, not applicable\, not applicable\, not applicable\, United States
CATEGORIES:Environmental & Environmental Justice,Presentation or Lecture
ATTACH;FMTTYPE=image/jpeg:https://hpjc.org/wp-content/uploads/2025/12/Lisa-Lin.jpg
ORGANIZER;CN="Interfaith Environmental Network of Houston":MAILTO:gcs.lrc@gmail.com
GEO:38.888684;-77.004719
X-APPLE-STRUCTURED-LOCATION;VALUE=URI;X-ADDRESS=online not applicable not applicable not applicable United States;X-APPLE-RADIUS=500;X-TITLE=not applicable:geo:-77.004719,38.888684
END:VEVENT
BEGIN:VEVENT
DTSTART;TZID=America/Chicago:20260201T180000
DTEND;TZID=America/Chicago:20260201T190000
DTSTAMP:20260424T205151
CREATED:20260102T164719Z
LAST-MODIFIED:20260102T164725Z
UID:10002409-1769968800-1769972400@hpjc.org
SUMMARY:The Earth and Spirituality: Organized Religion and Earth Church
DESCRIPTION:In this presentation\, Jim Blackburn will offer a summary of the evolution of modern Christian thinking on the environment from both the Old and New Testaments as well as his own views of Earth-based spirituality to find the common elements as well as some of the differences. This presentation will be informed by the book Earth Church by Blackburn and artist Isabelle Scurry Chapman as well as two chapters in a forthcoming book on The Future of the Texas Coast currently under review by Texas A&M Press. Both of these lines of thinking elevate the importance of stewardship and celebration of the Earth which is the centerpiece of both the religious and the secular viewpoints. All attendees will get a link to a free copy of Earth Church. Print copies available by special arrangement only. Time for interactive discussion with the speaker will be provided. Please register for this talk on www.eventbrite.com at https://www.eventbrite.com/e/1976264876445. This virtual event will use the WebEx platform. Registrants will receive a separate e-mail with WebEx connection details.  Contact Lisa Brenskelle at gcs.lrc@gmail.com with any questions.
URL:https://hpjc.org/event/the-earth-and-spirituality-organized-religion-and-earth-church/
LOCATION:online\, not applicable\, not applicable\, not applicable\, United States
CATEGORIES:Environmental & Environmental Justice,Presentation or Lecture
ATTACH;FMTTYPE=image/jpeg:https://hpjc.org/wp-content/uploads/2025/12/Jim-Blackburn-casual.jpg
ORGANIZER;CN="Christ the King Evangelical Lutheran Church":MAILTO:ctk@ctkelc.org
GEO:38.888684;-77.004719
X-APPLE-STRUCTURED-LOCATION;VALUE=URI;X-ADDRESS=online not applicable not applicable not applicable United States;X-APPLE-RADIUS=500;X-TITLE=not applicable:geo:-77.004719,38.888684
END:VEVENT
BEGIN:VEVENT
DTSTART;TZID=America/Chicago:20260222T180000
DTEND;TZID=America/Chicago:20260222T190000
DTSTAMP:20260424T205151
CREATED:20260312T172338Z
LAST-MODIFIED:20260312T172343Z
UID:10002421-1771783200-1771786800@hpjc.org
SUMMARY:The Role of Community Engagement in Environmental Health Research
DESCRIPTION:Join Melissa Suter\, PhD\, of Baylor College of Medicine\, and Lance Hallberg\, PhD\, and Claire Hallmark\, MPH\, both of University of Texas Medical Branch\, for a talk highlighting the role of the Community Engagement Core (CEC) in fostering meaningful\, bidirectional communication between researchers and communities impacted by Superfund site chemical pollutants. They will discuss strategies for partnering with local leaders and residents to co-develop prevention and intervention approaches aimed at reducing exposure to polycyclic aromatic hydrocarbons (PAHs) and other contaminants. Finally\, the presentation will showcase how these collaborative efforts inform research directions\, build capacity\, and advance environmental health equity in vulnerable populations. Time for interactive discussion with the speakers will be provided.  \n\n\n\nPlease register for this talk on www.eventbrite.com at https://www.eventbrite.com/e/1979387429084. All registrants will receive a link to the recording of the event. This virtual event will use the WebEx platform. Registrants will receive a separate e-mail with WebEx connection details.   \n\n\n\nContact Lisa Brenskelle at gcs.lrc@gmail.com with any questions.
URL:https://hpjc.org/event/the-role-of-community-engagement-in-environmental-health-research/
LOCATION:online\, not applicable\, not applicable\, not applicable\, United States
CATEGORIES:Environmental & Environmental Justice,Presentation or Lecture
ATTACH;FMTTYPE=image/jpeg:https://hpjc.org/wp-content/uploads/2026/01/speakers-for-February-2026-conversation.jpg
ORGANIZER;CN="Christ the King Evangelical Lutheran Church":MAILTO:ctk@ctkelc.org
GEO:38.888684;-77.004719
X-APPLE-STRUCTURED-LOCATION;VALUE=URI;X-ADDRESS=online not applicable not applicable not applicable United States;X-APPLE-RADIUS=500;X-TITLE=not applicable:geo:-77.004719,38.888684
END:VEVENT
END:VCALENDAR