BEGIN:VCALENDAR
VERSION:2.0
PRODID:-//Houston Peace &amp; Justice Center - ECPv6.15.20//NONSGML v1.0//EN
CALSCALE:GREGORIAN
METHOD:PUBLISH
X-ORIGINAL-URL:https://hpjc.org
X-WR-CALDESC:Events for Houston Peace &amp; Justice Center
REFRESH-INTERVAL;VALUE=DURATION:PT1H
X-Robots-Tag:noindex
X-PUBLISHED-TTL:PT1H
BEGIN:VTIMEZONE
TZID:America/Chicago
BEGIN:DAYLIGHT
TZOFFSETFROM:-0600
TZOFFSETTO:-0500
TZNAME:CDT
DTSTART:20220313T080000
END:DAYLIGHT
BEGIN:STANDARD
TZOFFSETFROM:-0500
TZOFFSETTO:-0600
TZNAME:CST
DTSTART:20221106T070000
END:STANDARD
BEGIN:DAYLIGHT
TZOFFSETFROM:-0600
TZOFFSETTO:-0500
TZNAME:CDT
DTSTART:20230312T080000
END:DAYLIGHT
BEGIN:STANDARD
TZOFFSETFROM:-0500
TZOFFSETTO:-0600
TZNAME:CST
DTSTART:20231105T070000
END:STANDARD
BEGIN:DAYLIGHT
TZOFFSETFROM:-0600
TZOFFSETTO:-0500
TZNAME:CDT
DTSTART:20240310T080000
END:DAYLIGHT
BEGIN:STANDARD
TZOFFSETFROM:-0500
TZOFFSETTO:-0600
TZNAME:CST
DTSTART:20241103T070000
END:STANDARD
END:VTIMEZONE
BEGIN:VEVENT
DTSTART;TZID=America/Chicago:20230504T190000
DTEND;TZID=America/Chicago:20230504T200000
DTSTAMP:20260422T085535
CREATED:20230520T175012Z
LAST-MODIFIED:20230520T175027Z
UID:10001495-1683226800-1683230400@hpjc.org
SUMMARY:“Will and Soul” Concert featuring Loop38
DESCRIPTION:Loop38 explores human creativity\, perseverance\, and all that binds us all together. Works by George Lewis and Chen Yi look inward\, considering humanity’s inherent creativity and life force\, while Carolyn Chen’s work looks outward\, contemplating our relationship with the environment. Deborah D.E.E.P. Mouton joins the musicians of Loop38 to present the world premiere of a work by Martha Horst based on D.E.E.P.’s poetry about hope\, aspiration\, and the power of creation.
URL:https://hpjc.org/event/will-and-soul-concert-featuring-loop38/
LOCATION:Rothko Chapel\, 3900 Yupon St\, Houston\, 77006
CATEGORIES:Live Performance
ATTACH;FMTTYPE=image/jpeg:https://hpjc.org/wp-content/uploads/2023/04/Will-and-Soul-Facebook-2.jpg
ORGANIZER;CN="Rothko Chapel":MAILTO:info@rothkochapel.org
GEO:29.7378214;-95.3957425
X-APPLE-STRUCTURED-LOCATION;VALUE=URI;X-ADDRESS=Rothko Chapel 3900 Yupon St Houston 77006;X-APPLE-RADIUS=500;X-TITLE=3900 Yupon St:geo:-95.3957425,29.7378214
END:VEVENT
BEGIN:VEVENT
DTSTART;TZID=America/Chicago:20230525T180000
DTEND;TZID=America/Chicago:20230525T200000
DTSTAMP:20260422T085535
CREATED:20230505T165713Z
LAST-MODIFIED:20230505T165716Z
UID:10001499-1685037600-1685044800@hpjc.org
SUMMARY:Making Some Noise for George Floyd
DESCRIPTION:Please join the Center for the Healing Racism on Thursday\, May 25\, 2023 from 6:00 to 8:00 PM (CDT) to commemorate the 3rd anniversary of the murder of George Floyd.  The event will take place at 3412 Crawford Street\, Houston\, TX 77004.  If you are a spoken word artist\, poet\, singer or other performing artist\, we invite you to contribute to the ceremony. \nSpoken word artist Isabella Zavala will be there making some noise for George Floyd. Isabella is an 11th grade student at Cristo Rey Jesuit College Preparatory School.  She plans to major in criminal justice and become a lawyer. Also making some noise for George Floyd will be Alisa and Alejandro Magallon\, former members of the Houston Grand Opera chorus.  We hope you decide to join us too. \nThis event is free and open to the public with donations encouraged.  Registration is required at: https://www.centerhealingracism.org/event/make-some-noise-for-george-floyd/.  Free parking is available in HCC Lot 9 at Holman and Crawford/Almeda.
URL:https://hpjc.org/event/making-some-noise-for-george-floyd/
LOCATION:Center for the Healing of Racism\, 3412 Crawford Street\, Houston\, TX\, 77004\, United States
CATEGORIES:Human Rights & Criminal Justice,Live Performance
ATTACH;FMTTYPE=image/jpeg:https://hpjc.org/wp-content/uploads/2023/05/download.jpg
ORGANIZER;CN="Center for the Healing of Racism":MAILTO:cfhr1@juno.com
GEO:29.7370629;-95.3734364
X-APPLE-STRUCTURED-LOCATION;VALUE=URI;X-ADDRESS=Center for the Healing of Racism 3412 Crawford Street Houston TX 77004 United States;X-APPLE-RADIUS=500;X-TITLE=3412 Crawford Street:geo:-95.3734364,29.7370629
END:VEVENT
END:VCALENDAR