BEGIN:VCALENDAR
VERSION:2.0
PRODID:-//Houston Peace &amp; Justice Center - ECPv6.15.20//NONSGML v1.0//EN
CALSCALE:GREGORIAN
METHOD:PUBLISH
X-WR-CALNAME:Houston Peace &amp; Justice Center
X-ORIGINAL-URL:https://hpjc.org
X-WR-CALDESC:Events for Houston Peace &amp; Justice Center
REFRESH-INTERVAL;VALUE=DURATION:PT1H
X-Robots-Tag:noindex
X-PUBLISHED-TTL:PT1H
BEGIN:VTIMEZONE
TZID:America/Chicago
BEGIN:DAYLIGHT
TZOFFSETFROM:-0600
TZOFFSETTO:-0500
TZNAME:CDT
DTSTART:20240310T080000
END:DAYLIGHT
BEGIN:STANDARD
TZOFFSETFROM:-0500
TZOFFSETTO:-0600
TZNAME:CST
DTSTART:20241103T070000
END:STANDARD
BEGIN:DAYLIGHT
TZOFFSETFROM:-0600
TZOFFSETTO:-0500
TZNAME:CDT
DTSTART:20250309T080000
END:DAYLIGHT
BEGIN:STANDARD
TZOFFSETFROM:-0500
TZOFFSETTO:-0600
TZNAME:CST
DTSTART:20251102T070000
END:STANDARD
BEGIN:DAYLIGHT
TZOFFSETFROM:-0600
TZOFFSETTO:-0500
TZNAME:CDT
DTSTART:20260308T080000
END:DAYLIGHT
BEGIN:STANDARD
TZOFFSETFROM:-0500
TZOFFSETTO:-0600
TZNAME:CST
DTSTART:20261101T070000
END:STANDARD
END:VTIMEZONE
BEGIN:VEVENT
DTSTART;TZID=America/Chicago:20250405T090000
DTEND;TZID=America/Chicago:20250405T110000
DTSTAMP:20260419T120710
CREATED:20250210T162052Z
LAST-MODIFIED:20250210T162056Z
UID:10001899-1743843600-1743850800@hpjc.org
SUMMARY:Coffee with HPJC
DESCRIPTION:Do you want to know more about HPJC? Do you want to hang out with like-minded peace and justice lovers? Do you want to share information about your organization? Come hang out with Sophia Moreau\, HPJC President\, for coffee and conversation at 2nd Cup Cafe from 9-11am. 2nd Cup Cafe is a 501 (c)(3) non-profit coffee shop doing their part to fight human trafficking in our city located at 4928 Fulton St. They are one block off the Metro light rail Red Line Cavalcade Stop.  \n\n\n\noffer \n\n\n\nFollow 2nd Cup Cafe on Instagram https://www.instagram.com/a2ndcup/
URL:https://hpjc.org/event/coffee-with-hpjc/2025-04-05/
END:VEVENT
BEGIN:VEVENT
DTSTART;TZID=America/Chicago:20250412T090000
DTEND;TZID=America/Chicago:20250412T110000
DTSTAMP:20260419T120710
CREATED:20250210T162052Z
LAST-MODIFIED:20250210T162056Z
UID:10001900-1744448400-1744455600@hpjc.org
SUMMARY:Coffee with HPJC
DESCRIPTION:Do you want to know more about HPJC? Do you want to hang out with like-minded peace and justice lovers? Do you want to share information about your organization? Come hang out with Sophia Moreau\, HPJC President\, for coffee and conversation at 2nd Cup Cafe from 9-11am. 2nd Cup Cafe is a 501 (c)(3) non-profit coffee shop doing their part to fight human trafficking in our city located at 4928 Fulton St. They are one block off the Metro light rail Red Line Cavalcade Stop.  \n\n\n\noffer \n\n\n\nFollow 2nd Cup Cafe on Instagram https://www.instagram.com/a2ndcup/
URL:https://hpjc.org/event/coffee-with-hpjc/2025-04-12/
END:VEVENT
BEGIN:VEVENT
DTSTART;TZID=America/Chicago:20250419T090000
DTEND;TZID=America/Chicago:20250419T110000
DTSTAMP:20260419T120710
CREATED:20250210T162052Z
LAST-MODIFIED:20250210T162056Z
UID:10001901-1745053200-1745060400@hpjc.org
SUMMARY:Coffee with HPJC
DESCRIPTION:Do you want to know more about HPJC? Do you want to hang out with like-minded peace and justice lovers? Do you want to share information about your organization? Come hang out with Sophia Moreau\, HPJC President\, for coffee and conversation at 2nd Cup Cafe from 9-11am. 2nd Cup Cafe is a 501 (c)(3) non-profit coffee shop doing their part to fight human trafficking in our city located at 4928 Fulton St. They are one block off the Metro light rail Red Line Cavalcade Stop.  \n\n\n\noffer \n\n\n\nFollow 2nd Cup Cafe on Instagram https://www.instagram.com/a2ndcup/
URL:https://hpjc.org/event/coffee-with-hpjc/2025-04-19/
END:VEVENT
BEGIN:VEVENT
DTSTART;TZID=America/Chicago:20250426T090000
DTEND;TZID=America/Chicago:20250426T110000
DTSTAMP:20260419T120710
CREATED:20250210T162052Z
LAST-MODIFIED:20250210T162056Z
UID:10001902-1745658000-1745665200@hpjc.org
SUMMARY:Coffee with HPJC
DESCRIPTION:Do you want to know more about HPJC? Do you want to hang out with like-minded peace and justice lovers? Do you want to share information about your organization? Come hang out with Sophia Moreau\, HPJC President\, for coffee and conversation at 2nd Cup Cafe from 9-11am. 2nd Cup Cafe is a 501 (c)(3) non-profit coffee shop doing their part to fight human trafficking in our city located at 4928 Fulton St. They are one block off the Metro light rail Red Line Cavalcade Stop.  \n\n\n\noffer \n\n\n\nFollow 2nd Cup Cafe on Instagram https://www.instagram.com/a2ndcup/
URL:https://hpjc.org/event/coffee-with-hpjc/2025-04-26/
END:VEVENT
END:VCALENDAR