BEGIN:VCALENDAR
VERSION:2.0
PRODID:-//Houston Peace &amp; Justice Center - ECPv6.15.20//NONSGML v1.0//EN
CALSCALE:GREGORIAN
METHOD:PUBLISH
X-WR-CALNAME:Houston Peace &amp; Justice Center
X-ORIGINAL-URL:https://hpjc.org
X-WR-CALDESC:Events for Houston Peace &amp; Justice Center
REFRESH-INTERVAL;VALUE=DURATION:PT1H
X-Robots-Tag:noindex
X-PUBLISHED-TTL:PT1H
BEGIN:VTIMEZONE
TZID:America/Chicago
BEGIN:DAYLIGHT
TZOFFSETFROM:-0600
TZOFFSETTO:-0500
TZNAME:CDT
DTSTART:20250309T080000
END:DAYLIGHT
BEGIN:STANDARD
TZOFFSETFROM:-0500
TZOFFSETTO:-0600
TZNAME:CST
DTSTART:20251102T070000
END:STANDARD
BEGIN:DAYLIGHT
TZOFFSETFROM:-0600
TZOFFSETTO:-0500
TZNAME:CDT
DTSTART:20260308T080000
END:DAYLIGHT
BEGIN:STANDARD
TZOFFSETFROM:-0500
TZOFFSETTO:-0600
TZNAME:CST
DTSTART:20261101T070000
END:STANDARD
BEGIN:DAYLIGHT
TZOFFSETFROM:-0600
TZOFFSETTO:-0500
TZNAME:CDT
DTSTART:20270314T080000
END:DAYLIGHT
BEGIN:STANDARD
TZOFFSETFROM:-0500
TZOFFSETTO:-0600
TZNAME:CST
DTSTART:20271107T070000
END:STANDARD
END:VTIMEZONE
BEGIN:VEVENT
DTSTART;TZID=America/Chicago:20260426T133000
DTEND;TZID=America/Chicago:20260426T163000
DTSTAMP:20260424T205606
CREATED:20260312T171814Z
LAST-MODIFIED:20260312T171820Z
UID:10002847-1777210200-1777221000@hpjc.org
SUMMARY:Spring 2026 Interfaith Environmental Stewardship Event
DESCRIPTION:Calling people of all faiths or no faith at all in Houston to care for our shared environment during Earth Month!   \n\n\n\nWe will engage in hands-on environmental stewardship at the Willow Waterhole Conservation Reserve\, with a variety of hands-on tasks suitable for all ages & skill levels. In observance of the Great American Clean-up\, one of the activities will be a trash bash.  Meet at 11350 Ricecrest by the Oak tree in the park to sign in. Metro bus line 7 stops right nearby.  Tools/supplies will be provided.  \n\n\n\nThis event is organized by Christ the King Evangelical Lutheran Church and the Interfaith Environmental Network of Houston\, in partnership with the Willow Waterhole Greenspace Conservancy.  The conservancy requires signing of a waiver to participate.  \n\n\n\nPlease register for planning purposes on www.eventbrite.com at: https://www.eventbrite.com/e/1983691780515.   \n\n\n\nContact Lisa Brenskelle at gcs.lrc@gmail.com for more information.
URL:https://hpjc.org/event/spring-2026-interfaith-environmental-stewardship-event/
LOCATION:Willow Waterhole Conservation Reserve\, 5300 Dryad\, Houston\, 77035
CATEGORIES:Environmental & Environmental Justice
ATTACH;FMTTYPE=image/jpeg:https://hpjc.org/wp-content/uploads/2026/03/volunteers-at-past-event.jpg
ORGANIZER;CN="Interfaith Environmental Network of Houston":MAILTO:gcs.lrc@gmail.com
END:VEVENT
END:VCALENDAR