BEGIN:VCALENDAR
VERSION:2.0
PRODID:-//Houston Peace &amp; Justice Center - ECPv6.15.20//NONSGML v1.0//EN
CALSCALE:GREGORIAN
METHOD:PUBLISH
X-WR-CALNAME:Houston Peace &amp; Justice Center
X-ORIGINAL-URL:https://hpjc.org
X-WR-CALDESC:Events for Houston Peace &amp; Justice Center
REFRESH-INTERVAL;VALUE=DURATION:PT1H
X-Robots-Tag:noindex
X-PUBLISHED-TTL:PT1H
BEGIN:VTIMEZONE
TZID:America/Chicago
BEGIN:DAYLIGHT
TZOFFSETFROM:-0600
TZOFFSETTO:-0500
TZNAME:CDT
DTSTART:20220313T080000
END:DAYLIGHT
BEGIN:STANDARD
TZOFFSETFROM:-0500
TZOFFSETTO:-0600
TZNAME:CST
DTSTART:20221106T070000
END:STANDARD
BEGIN:DAYLIGHT
TZOFFSETFROM:-0600
TZOFFSETTO:-0500
TZNAME:CDT
DTSTART:20230312T080000
END:DAYLIGHT
BEGIN:STANDARD
TZOFFSETFROM:-0500
TZOFFSETTO:-0600
TZNAME:CST
DTSTART:20231105T070000
END:STANDARD
BEGIN:DAYLIGHT
TZOFFSETFROM:-0600
TZOFFSETTO:-0500
TZNAME:CDT
DTSTART:20240310T080000
END:DAYLIGHT
BEGIN:STANDARD
TZOFFSETFROM:-0500
TZOFFSETTO:-0600
TZNAME:CST
DTSTART:20241103T070000
END:STANDARD
END:VTIMEZONE
BEGIN:VEVENT
DTSTART;TZID=America/Chicago:20230723T140000
DTEND;TZID=America/Chicago:20230723T160000
DTSTAMP:20260424T034106
CREATED:20230724T142018Z
LAST-MODIFIED:20230724T142019Z
UID:10001508-1690120800-1690128000@hpjc.org
SUMMARY:The Letter: Screening & Discussion
DESCRIPTION:Join us for a screening and discussion of The Letter\, a gorgeously filmed story featuring scenes from around the world that puts a human face on climate change. The Letter tells the story of the Laudato Si’ encyclical letter by Pope Francis through the eyes of frontline leaders battling the ecological crisis across continents. A powerful – and surprising – dialogue with the Pope in the Vatican brings new hope for our common home. Featured in the film are Arouna Kandé\, a climate refugee in Senegal; Cacique Dadá\, an environmental defender and leader of the Maró Indigenous territory in the Brazilian Amazon; Ridhima Pandey\, a youth climate activist from India; and Greg Asner and Robin Martin\, biologists studying coral reefs in Hawaii. The film features exclusive footage from their encounter with Francis\, alongside the personal stories and scientific findings throughout the documentary. Join us for the film and discussion.  Register on www.eventbrite.com at https://www.eventbrite.com/e/the-letter-screening-discussion-tickets-648461334307. Contact Lisa Brenskelle at gcs.lrc@gmail.com with any questions.
URL:https://hpjc.org/event/the-letter-screening-discussion/
LOCATION:Online\, TX
CATEGORIES:Environmental & Environmental Justice,Film
ATTACH;FMTTYPE=image/jpeg:https://hpjc.org/wp-content/uploads/2023/06/The-Letter-logo.jpg
ORGANIZER;CN="Christ the King Evangelical Lutheran Church":MAILTO:ctk@ctkelc.org
END:VEVENT
END:VCALENDAR