BEGIN:VCALENDAR
VERSION:2.0
PRODID:-//Houston Peace &amp; Justice Center - ECPv6.15.20//NONSGML v1.0//EN
CALSCALE:GREGORIAN
METHOD:PUBLISH
X-WR-CALNAME:Houston Peace &amp; Justice Center
X-ORIGINAL-URL:https://hpjc.org
X-WR-CALDESC:Events for Houston Peace &amp; Justice Center
REFRESH-INTERVAL;VALUE=DURATION:PT1H
X-Robots-Tag:noindex
X-PUBLISHED-TTL:PT1H
BEGIN:VTIMEZONE
TZID:America/Chicago
BEGIN:DAYLIGHT
TZOFFSETFROM:-0600
TZOFFSETTO:-0500
TZNAME:CDT
DTSTART:20240310T080000
END:DAYLIGHT
BEGIN:STANDARD
TZOFFSETFROM:-0500
TZOFFSETTO:-0600
TZNAME:CST
DTSTART:20241103T070000
END:STANDARD
BEGIN:DAYLIGHT
TZOFFSETFROM:-0600
TZOFFSETTO:-0500
TZNAME:CDT
DTSTART:20250309T080000
END:DAYLIGHT
BEGIN:STANDARD
TZOFFSETFROM:-0500
TZOFFSETTO:-0600
TZNAME:CST
DTSTART:20251102T070000
END:STANDARD
BEGIN:DAYLIGHT
TZOFFSETFROM:-0600
TZOFFSETTO:-0500
TZNAME:CDT
DTSTART:20260308T080000
END:DAYLIGHT
BEGIN:STANDARD
TZOFFSETFROM:-0500
TZOFFSETTO:-0600
TZNAME:CST
DTSTART:20261101T070000
END:STANDARD
END:VTIMEZONE
BEGIN:VEVENT
DTSTART;TZID=America/Chicago:20251106T180000
DTEND;TZID=America/Chicago:20251106T190000
DTSTAMP:20260420T142541
CREATED:20250924T213456Z
LAST-MODIFIED:20250924T213457Z
UID:10002374-1762452000-1762455600@hpjc.org
SUMMARY:Drawdown Roadmap
DESCRIPTION:You may know that there are many possible solutions to combat climate change.  But\, how do we focus our efforts\, create the most effective plan and really make a difference on climate before it’s too late? The Drawdown Roadmap is a science-based strategy for accelerating climate solutions\, pointing to which climate actions governments\, businesses\, investors\, philanthropists\, community organizations\, and others should prioritize to make the most of our efforts to stop climate change.  \n\n\n\nAttend this 4-week course to understand the roadmap\, and consider how to actualize it in your business\, community organization\, investments and more.   \n\n\n\nTo learn more/register\, see: https://www.eventbrite.com/e/drawdown-roadmap-tickets-1641260948679.  \n\n\n\nContact Lisa Brenskelle at gcs.lrc@gmail.com for more information.
URL:https://hpjc.org/event/drawdown-roadmap-3/2025-11-06/
LOCATION:online\, not applicable\, not applicable\, not applicable\, United States
CATEGORIES:Environmental & Environmental Justice,Film,Non-HPJC Meeting
ATTACH;FMTTYPE=image/jpeg:https://hpjc.org/wp-content/uploads/2025/09/drawdown-roadmap-logo.jpg
ORGANIZER;CN="Interfaith Environmental Network of Houston":MAILTO:gcs.lrc@gmail.com
GEO:38.888684;-77.004719
X-APPLE-STRUCTURED-LOCATION;VALUE=URI;X-ADDRESS=online not applicable not applicable not applicable United States;X-APPLE-RADIUS=500;X-TITLE=not applicable:geo:-77.004719,38.888684
END:VEVENT
BEGIN:VEVENT
DTSTART;TZID=America/Chicago:20251113T180000
DTEND;TZID=America/Chicago:20251113T190000
DTSTAMP:20260420T142541
CREATED:20250924T213456Z
LAST-MODIFIED:20250924T213457Z
UID:10002375-1763056800-1763060400@hpjc.org
SUMMARY:Drawdown Roadmap
DESCRIPTION:You may know that there are many possible solutions to combat climate change.  But\, how do we focus our efforts\, create the most effective plan and really make a difference on climate before it’s too late? The Drawdown Roadmap is a science-based strategy for accelerating climate solutions\, pointing to which climate actions governments\, businesses\, investors\, philanthropists\, community organizations\, and others should prioritize to make the most of our efforts to stop climate change.  \n\n\n\nAttend this 4-week course to understand the roadmap\, and consider how to actualize it in your business\, community organization\, investments and more.   \n\n\n\nTo learn more/register\, see: https://www.eventbrite.com/e/drawdown-roadmap-tickets-1641260948679.  \n\n\n\nContact Lisa Brenskelle at gcs.lrc@gmail.com for more information.
URL:https://hpjc.org/event/drawdown-roadmap-3/2025-11-13/
LOCATION:online\, not applicable\, not applicable\, not applicable\, United States
CATEGORIES:Environmental & Environmental Justice,Film,Non-HPJC Meeting
ATTACH;FMTTYPE=image/jpeg:https://hpjc.org/wp-content/uploads/2025/09/drawdown-roadmap-logo.jpg
ORGANIZER;CN="Interfaith Environmental Network of Houston":MAILTO:gcs.lrc@gmail.com
GEO:38.888684;-77.004719
X-APPLE-STRUCTURED-LOCATION;VALUE=URI;X-ADDRESS=online not applicable not applicable not applicable United States;X-APPLE-RADIUS=500;X-TITLE=not applicable:geo:-77.004719,38.888684
END:VEVENT
END:VCALENDAR