BEGIN:VCALENDAR
VERSION:2.0
PRODID:-//Houston Peace &amp; Justice Center - ECPv6.15.20//NONSGML v1.0//EN
CALSCALE:GREGORIAN
METHOD:PUBLISH
X-ORIGINAL-URL:https://hpjc.org
X-WR-CALDESC:Events for Houston Peace &amp; Justice Center
REFRESH-INTERVAL;VALUE=DURATION:PT1H
X-Robots-Tag:noindex
X-PUBLISHED-TTL:PT1H
BEGIN:VTIMEZONE
TZID:America/Chicago
BEGIN:DAYLIGHT
TZOFFSETFROM:-0600
TZOFFSETTO:-0500
TZNAME:CDT
DTSTART:20250309T080000
END:DAYLIGHT
BEGIN:STANDARD
TZOFFSETFROM:-0500
TZOFFSETTO:-0600
TZNAME:CST
DTSTART:20251102T070000
END:STANDARD
BEGIN:DAYLIGHT
TZOFFSETFROM:-0600
TZOFFSETTO:-0500
TZNAME:CDT
DTSTART:20260308T080000
END:DAYLIGHT
BEGIN:STANDARD
TZOFFSETFROM:-0500
TZOFFSETTO:-0600
TZNAME:CST
DTSTART:20261101T070000
END:STANDARD
BEGIN:DAYLIGHT
TZOFFSETFROM:-0600
TZOFFSETTO:-0500
TZNAME:CDT
DTSTART:20270314T080000
END:DAYLIGHT
BEGIN:STANDARD
TZOFFSETFROM:-0500
TZOFFSETTO:-0600
TZNAME:CST
DTSTART:20271107T070000
END:STANDARD
END:VTIMEZONE
BEGIN:VEVENT
DTSTART;TZID=America/Chicago:20261003T030000
DTEND;TZID=America/Chicago:20261004T025959
DTSTAMP:20260419T092338
CREATED:20260312T171237Z
LAST-MODIFIED:20260312T171239Z
UID:10002636-1790996400-1791082799@hpjc.org
SUMMARY:Earth Month EcoChallenge – People & Planet\, Resilient Together
DESCRIPTION:You’re invited to participate in the online Earth Month Ecochallenge! This event offers participants the opportunity to create a more resilient world – people and planet together – by taking on challenge(s) that resonate with your values\, and committing to them for 30 days to foster and reinforce positive habits. Categories for action include: what is resilience\, personal\, community\, work & organizations\, water\, soil & food\, biodiversity & wildlife and action track.  You can learn about these topics\, take action in your personal life\, advocate for just policy or create a new environmental justice/stewardship habit over the course of the month of the challenge!!   \n\n\n\nTwo Houston-based teams have already been set up – see the links below to join one of these two teams. Or form your own team\, or join as an individual at https://earthmonth.ecochallenge.org/! Contact Lisa Brenskelle at gcs.lrc@gmail.com with any questions about the teams. \n\n\n\nJoin Interfaith Environmental Network of Houston team: https://earthmonth.ecochallenge.org/participants/join?referral_code=6233bb60-6a20-4227-ade8-be6335ac7af3&team_id=interfaith-environmental-network-of-houston \n\n\n\nJoin Lutherans Restoring Creation – Gulf Coast team: https://earthmonth.ecochallenge.org/participants/join?referral_code=cdb49382-8a74-442b-baa6-a35c28516d74&team_id=lutherans-restoring-creation-gulf-coast
URL:https://hpjc.org/event/earth-month-ecochallenge-people-planet-resilient-together/2026-10-03/
LOCATION:online\, not applicable\, not applicable\, not applicable\, United States
CATEGORIES:Environmental & Environmental Justice
ATTACH;FMTTYPE=image/png:https://hpjc.org/wp-content/uploads/2026/03/Earth-Month-ecochallenge-logo-2026.png
ORGANIZER;CN="Interfaith Environmental Network of Houston":MAILTO:gcs.lrc@gmail.com
GEO:38.888684;-77.004719
X-APPLE-STRUCTURED-LOCATION;VALUE=URI;X-ADDRESS=online not applicable not applicable not applicable United States;X-APPLE-RADIUS=500;X-TITLE=not applicable:geo:-77.004719,38.888684
END:VEVENT
BEGIN:VEVENT
DTSTART;TZID=America/Chicago:20261004T030000
DTEND;TZID=America/Chicago:20261005T025959
DTSTAMP:20260419T092338
CREATED:20260312T171237Z
LAST-MODIFIED:20260312T171239Z
UID:10002637-1791082800-1791169199@hpjc.org
SUMMARY:Earth Month EcoChallenge – People & Planet\, Resilient Together
DESCRIPTION:You’re invited to participate in the online Earth Month Ecochallenge! This event offers participants the opportunity to create a more resilient world – people and planet together – by taking on challenge(s) that resonate with your values\, and committing to them for 30 days to foster and reinforce positive habits. Categories for action include: what is resilience\, personal\, community\, work & organizations\, water\, soil & food\, biodiversity & wildlife and action track.  You can learn about these topics\, take action in your personal life\, advocate for just policy or create a new environmental justice/stewardship habit over the course of the month of the challenge!!   \n\n\n\nTwo Houston-based teams have already been set up – see the links below to join one of these two teams. Or form your own team\, or join as an individual at https://earthmonth.ecochallenge.org/! Contact Lisa Brenskelle at gcs.lrc@gmail.com with any questions about the teams. \n\n\n\nJoin Interfaith Environmental Network of Houston team: https://earthmonth.ecochallenge.org/participants/join?referral_code=6233bb60-6a20-4227-ade8-be6335ac7af3&team_id=interfaith-environmental-network-of-houston \n\n\n\nJoin Lutherans Restoring Creation – Gulf Coast team: https://earthmonth.ecochallenge.org/participants/join?referral_code=cdb49382-8a74-442b-baa6-a35c28516d74&team_id=lutherans-restoring-creation-gulf-coast
URL:https://hpjc.org/event/earth-month-ecochallenge-people-planet-resilient-together/2026-10-04/
LOCATION:online\, not applicable\, not applicable\, not applicable\, United States
CATEGORIES:Environmental & Environmental Justice
ATTACH;FMTTYPE=image/png:https://hpjc.org/wp-content/uploads/2026/03/Earth-Month-ecochallenge-logo-2026.png
ORGANIZER;CN="Interfaith Environmental Network of Houston":MAILTO:gcs.lrc@gmail.com
GEO:38.888684;-77.004719
X-APPLE-STRUCTURED-LOCATION;VALUE=URI;X-ADDRESS=online not applicable not applicable not applicable United States;X-APPLE-RADIUS=500;X-TITLE=not applicable:geo:-77.004719,38.888684
END:VEVENT
BEGIN:VEVENT
DTSTART;TZID=America/Chicago:20261005T030000
DTEND;TZID=America/Chicago:20261006T025959
DTSTAMP:20260419T092338
CREATED:20260312T171237Z
LAST-MODIFIED:20260312T171239Z
UID:10002638-1791169200-1791255599@hpjc.org
SUMMARY:Earth Month EcoChallenge – People & Planet\, Resilient Together
DESCRIPTION:You’re invited to participate in the online Earth Month Ecochallenge! This event offers participants the opportunity to create a more resilient world – people and planet together – by taking on challenge(s) that resonate with your values\, and committing to them for 30 days to foster and reinforce positive habits. Categories for action include: what is resilience\, personal\, community\, work & organizations\, water\, soil & food\, biodiversity & wildlife and action track.  You can learn about these topics\, take action in your personal life\, advocate for just policy or create a new environmental justice/stewardship habit over the course of the month of the challenge!!   \n\n\n\nTwo Houston-based teams have already been set up – see the links below to join one of these two teams. Or form your own team\, or join as an individual at https://earthmonth.ecochallenge.org/! Contact Lisa Brenskelle at gcs.lrc@gmail.com with any questions about the teams. \n\n\n\nJoin Interfaith Environmental Network of Houston team: https://earthmonth.ecochallenge.org/participants/join?referral_code=6233bb60-6a20-4227-ade8-be6335ac7af3&team_id=interfaith-environmental-network-of-houston \n\n\n\nJoin Lutherans Restoring Creation – Gulf Coast team: https://earthmonth.ecochallenge.org/participants/join?referral_code=cdb49382-8a74-442b-baa6-a35c28516d74&team_id=lutherans-restoring-creation-gulf-coast
URL:https://hpjc.org/event/earth-month-ecochallenge-people-planet-resilient-together/2026-10-05/
LOCATION:online\, not applicable\, not applicable\, not applicable\, United States
CATEGORIES:Environmental & Environmental Justice
ATTACH;FMTTYPE=image/png:https://hpjc.org/wp-content/uploads/2026/03/Earth-Month-ecochallenge-logo-2026.png
ORGANIZER;CN="Interfaith Environmental Network of Houston":MAILTO:gcs.lrc@gmail.com
GEO:38.888684;-77.004719
X-APPLE-STRUCTURED-LOCATION;VALUE=URI;X-ADDRESS=online not applicable not applicable not applicable United States;X-APPLE-RADIUS=500;X-TITLE=not applicable:geo:-77.004719,38.888684
END:VEVENT
BEGIN:VEVENT
DTSTART;TZID=America/Chicago:20261006T030000
DTEND;TZID=America/Chicago:20261007T025959
DTSTAMP:20260419T092338
CREATED:20260312T171237Z
LAST-MODIFIED:20260312T171239Z
UID:10002639-1791255600-1791341999@hpjc.org
SUMMARY:Earth Month EcoChallenge – People & Planet\, Resilient Together
DESCRIPTION:You’re invited to participate in the online Earth Month Ecochallenge! This event offers participants the opportunity to create a more resilient world – people and planet together – by taking on challenge(s) that resonate with your values\, and committing to them for 30 days to foster and reinforce positive habits. Categories for action include: what is resilience\, personal\, community\, work & organizations\, water\, soil & food\, biodiversity & wildlife and action track.  You can learn about these topics\, take action in your personal life\, advocate for just policy or create a new environmental justice/stewardship habit over the course of the month of the challenge!!   \n\n\n\nTwo Houston-based teams have already been set up – see the links below to join one of these two teams. Or form your own team\, or join as an individual at https://earthmonth.ecochallenge.org/! Contact Lisa Brenskelle at gcs.lrc@gmail.com with any questions about the teams. \n\n\n\nJoin Interfaith Environmental Network of Houston team: https://earthmonth.ecochallenge.org/participants/join?referral_code=6233bb60-6a20-4227-ade8-be6335ac7af3&team_id=interfaith-environmental-network-of-houston \n\n\n\nJoin Lutherans Restoring Creation – Gulf Coast team: https://earthmonth.ecochallenge.org/participants/join?referral_code=cdb49382-8a74-442b-baa6-a35c28516d74&team_id=lutherans-restoring-creation-gulf-coast
URL:https://hpjc.org/event/earth-month-ecochallenge-people-planet-resilient-together/2026-10-06/
LOCATION:online\, not applicable\, not applicable\, not applicable\, United States
CATEGORIES:Environmental & Environmental Justice
ATTACH;FMTTYPE=image/png:https://hpjc.org/wp-content/uploads/2026/03/Earth-Month-ecochallenge-logo-2026.png
ORGANIZER;CN="Interfaith Environmental Network of Houston":MAILTO:gcs.lrc@gmail.com
GEO:38.888684;-77.004719
X-APPLE-STRUCTURED-LOCATION;VALUE=URI;X-ADDRESS=online not applicable not applicable not applicable United States;X-APPLE-RADIUS=500;X-TITLE=not applicable:geo:-77.004719,38.888684
END:VEVENT
BEGIN:VEVENT
DTSTART;TZID=America/Chicago:20261007T030000
DTEND;TZID=America/Chicago:20261008T025959
DTSTAMP:20260419T092338
CREATED:20260312T171237Z
LAST-MODIFIED:20260312T171239Z
UID:10002640-1791342000-1791428399@hpjc.org
SUMMARY:Earth Month EcoChallenge – People & Planet\, Resilient Together
DESCRIPTION:You’re invited to participate in the online Earth Month Ecochallenge! This event offers participants the opportunity to create a more resilient world – people and planet together – by taking on challenge(s) that resonate with your values\, and committing to them for 30 days to foster and reinforce positive habits. Categories for action include: what is resilience\, personal\, community\, work & organizations\, water\, soil & food\, biodiversity & wildlife and action track.  You can learn about these topics\, take action in your personal life\, advocate for just policy or create a new environmental justice/stewardship habit over the course of the month of the challenge!!   \n\n\n\nTwo Houston-based teams have already been set up – see the links below to join one of these two teams. Or form your own team\, or join as an individual at https://earthmonth.ecochallenge.org/! Contact Lisa Brenskelle at gcs.lrc@gmail.com with any questions about the teams. \n\n\n\nJoin Interfaith Environmental Network of Houston team: https://earthmonth.ecochallenge.org/participants/join?referral_code=6233bb60-6a20-4227-ade8-be6335ac7af3&team_id=interfaith-environmental-network-of-houston \n\n\n\nJoin Lutherans Restoring Creation – Gulf Coast team: https://earthmonth.ecochallenge.org/participants/join?referral_code=cdb49382-8a74-442b-baa6-a35c28516d74&team_id=lutherans-restoring-creation-gulf-coast
URL:https://hpjc.org/event/earth-month-ecochallenge-people-planet-resilient-together/2026-10-07/
LOCATION:online\, not applicable\, not applicable\, not applicable\, United States
CATEGORIES:Environmental & Environmental Justice
ATTACH;FMTTYPE=image/png:https://hpjc.org/wp-content/uploads/2026/03/Earth-Month-ecochallenge-logo-2026.png
ORGANIZER;CN="Interfaith Environmental Network of Houston":MAILTO:gcs.lrc@gmail.com
GEO:38.888684;-77.004719
X-APPLE-STRUCTURED-LOCATION;VALUE=URI;X-ADDRESS=online not applicable not applicable not applicable United States;X-APPLE-RADIUS=500;X-TITLE=not applicable:geo:-77.004719,38.888684
END:VEVENT
BEGIN:VEVENT
DTSTART;TZID=America/Chicago:20261008T030000
DTEND;TZID=America/Chicago:20261009T025959
DTSTAMP:20260419T092338
CREATED:20260312T171237Z
LAST-MODIFIED:20260312T171239Z
UID:10002641-1791428400-1791514799@hpjc.org
SUMMARY:Earth Month EcoChallenge – People & Planet\, Resilient Together
DESCRIPTION:You’re invited to participate in the online Earth Month Ecochallenge! This event offers participants the opportunity to create a more resilient world – people and planet together – by taking on challenge(s) that resonate with your values\, and committing to them for 30 days to foster and reinforce positive habits. Categories for action include: what is resilience\, personal\, community\, work & organizations\, water\, soil & food\, biodiversity & wildlife and action track.  You can learn about these topics\, take action in your personal life\, advocate for just policy or create a new environmental justice/stewardship habit over the course of the month of the challenge!!   \n\n\n\nTwo Houston-based teams have already been set up – see the links below to join one of these two teams. Or form your own team\, or join as an individual at https://earthmonth.ecochallenge.org/! Contact Lisa Brenskelle at gcs.lrc@gmail.com with any questions about the teams. \n\n\n\nJoin Interfaith Environmental Network of Houston team: https://earthmonth.ecochallenge.org/participants/join?referral_code=6233bb60-6a20-4227-ade8-be6335ac7af3&team_id=interfaith-environmental-network-of-houston \n\n\n\nJoin Lutherans Restoring Creation – Gulf Coast team: https://earthmonth.ecochallenge.org/participants/join?referral_code=cdb49382-8a74-442b-baa6-a35c28516d74&team_id=lutherans-restoring-creation-gulf-coast
URL:https://hpjc.org/event/earth-month-ecochallenge-people-planet-resilient-together/2026-10-08/
LOCATION:online\, not applicable\, not applicable\, not applicable\, United States
CATEGORIES:Environmental & Environmental Justice
ATTACH;FMTTYPE=image/png:https://hpjc.org/wp-content/uploads/2026/03/Earth-Month-ecochallenge-logo-2026.png
ORGANIZER;CN="Interfaith Environmental Network of Houston":MAILTO:gcs.lrc@gmail.com
GEO:38.888684;-77.004719
X-APPLE-STRUCTURED-LOCATION;VALUE=URI;X-ADDRESS=online not applicable not applicable not applicable United States;X-APPLE-RADIUS=500;X-TITLE=not applicable:geo:-77.004719,38.888684
END:VEVENT
BEGIN:VEVENT
DTSTART;TZID=America/Chicago:20261009T030000
DTEND;TZID=America/Chicago:20261010T025959
DTSTAMP:20260419T092338
CREATED:20260312T171237Z
LAST-MODIFIED:20260312T171239Z
UID:10002642-1791514800-1791601199@hpjc.org
SUMMARY:Earth Month EcoChallenge – People & Planet\, Resilient Together
DESCRIPTION:You’re invited to participate in the online Earth Month Ecochallenge! This event offers participants the opportunity to create a more resilient world – people and planet together – by taking on challenge(s) that resonate with your values\, and committing to them for 30 days to foster and reinforce positive habits. Categories for action include: what is resilience\, personal\, community\, work & organizations\, water\, soil & food\, biodiversity & wildlife and action track.  You can learn about these topics\, take action in your personal life\, advocate for just policy or create a new environmental justice/stewardship habit over the course of the month of the challenge!!   \n\n\n\nTwo Houston-based teams have already been set up – see the links below to join one of these two teams. Or form your own team\, or join as an individual at https://earthmonth.ecochallenge.org/! Contact Lisa Brenskelle at gcs.lrc@gmail.com with any questions about the teams. \n\n\n\nJoin Interfaith Environmental Network of Houston team: https://earthmonth.ecochallenge.org/participants/join?referral_code=6233bb60-6a20-4227-ade8-be6335ac7af3&team_id=interfaith-environmental-network-of-houston \n\n\n\nJoin Lutherans Restoring Creation – Gulf Coast team: https://earthmonth.ecochallenge.org/participants/join?referral_code=cdb49382-8a74-442b-baa6-a35c28516d74&team_id=lutherans-restoring-creation-gulf-coast
URL:https://hpjc.org/event/earth-month-ecochallenge-people-planet-resilient-together/2026-10-09/
LOCATION:online\, not applicable\, not applicable\, not applicable\, United States
CATEGORIES:Environmental & Environmental Justice
ATTACH;FMTTYPE=image/png:https://hpjc.org/wp-content/uploads/2026/03/Earth-Month-ecochallenge-logo-2026.png
ORGANIZER;CN="Interfaith Environmental Network of Houston":MAILTO:gcs.lrc@gmail.com
GEO:38.888684;-77.004719
X-APPLE-STRUCTURED-LOCATION;VALUE=URI;X-ADDRESS=online not applicable not applicable not applicable United States;X-APPLE-RADIUS=500;X-TITLE=not applicable:geo:-77.004719,38.888684
END:VEVENT
BEGIN:VEVENT
DTSTART;TZID=America/Chicago:20261010T030000
DTEND;TZID=America/Chicago:20261011T025959
DTSTAMP:20260419T092338
CREATED:20260312T171237Z
LAST-MODIFIED:20260312T171239Z
UID:10002643-1791601200-1791687599@hpjc.org
SUMMARY:Earth Month EcoChallenge – People & Planet\, Resilient Together
DESCRIPTION:You’re invited to participate in the online Earth Month Ecochallenge! This event offers participants the opportunity to create a more resilient world – people and planet together – by taking on challenge(s) that resonate with your values\, and committing to them for 30 days to foster and reinforce positive habits. Categories for action include: what is resilience\, personal\, community\, work & organizations\, water\, soil & food\, biodiversity & wildlife and action track.  You can learn about these topics\, take action in your personal life\, advocate for just policy or create a new environmental justice/stewardship habit over the course of the month of the challenge!!   \n\n\n\nTwo Houston-based teams have already been set up – see the links below to join one of these two teams. Or form your own team\, or join as an individual at https://earthmonth.ecochallenge.org/! Contact Lisa Brenskelle at gcs.lrc@gmail.com with any questions about the teams. \n\n\n\nJoin Interfaith Environmental Network of Houston team: https://earthmonth.ecochallenge.org/participants/join?referral_code=6233bb60-6a20-4227-ade8-be6335ac7af3&team_id=interfaith-environmental-network-of-houston \n\n\n\nJoin Lutherans Restoring Creation – Gulf Coast team: https://earthmonth.ecochallenge.org/participants/join?referral_code=cdb49382-8a74-442b-baa6-a35c28516d74&team_id=lutherans-restoring-creation-gulf-coast
URL:https://hpjc.org/event/earth-month-ecochallenge-people-planet-resilient-together/2026-10-10/
LOCATION:online\, not applicable\, not applicable\, not applicable\, United States
CATEGORIES:Environmental & Environmental Justice
ATTACH;FMTTYPE=image/png:https://hpjc.org/wp-content/uploads/2026/03/Earth-Month-ecochallenge-logo-2026.png
ORGANIZER;CN="Interfaith Environmental Network of Houston":MAILTO:gcs.lrc@gmail.com
GEO:38.888684;-77.004719
X-APPLE-STRUCTURED-LOCATION;VALUE=URI;X-ADDRESS=online not applicable not applicable not applicable United States;X-APPLE-RADIUS=500;X-TITLE=not applicable:geo:-77.004719,38.888684
END:VEVENT
BEGIN:VEVENT
DTSTART;TZID=America/Chicago:20261010T100000
DTEND;TZID=America/Chicago:20261010T120000
DTSTAMP:20260419T092338
CREATED:20260312T164845Z
LAST-MODIFIED:20260312T164847Z
UID:10002446-1791626400-1791633600@hpjc.org
SUMMARY:HPJC Executive Committee Meeting
DESCRIPTION:HPJC Executive Committee Meeting
URL:https://hpjc.org/event/hpjc-executive-committee-meeting-5/2026-10-10/
CATEGORIES:HPJC Meeting
ATTACH;FMTTYPE=image/png:https://hpjc.org/wp-content/uploads/2026/02/cropped-Logo-HPJC-blue-orange-280x124-2.png
END:VEVENT
END:VCALENDAR