BEGIN:VCALENDAR
VERSION:2.0
PRODID:-//Houston Peace &amp; Justice Center - ECPv6.15.20//NONSGML v1.0//EN
CALSCALE:GREGORIAN
METHOD:PUBLISH
X-WR-CALNAME:Houston Peace &amp; Justice Center
X-ORIGINAL-URL:https://hpjc.org
X-WR-CALDESC:Events for Houston Peace &amp; Justice Center
REFRESH-INTERVAL;VALUE=DURATION:PT1H
X-Robots-Tag:noindex
X-PUBLISHED-TTL:PT1H
BEGIN:VTIMEZONE
TZID:America/Chicago
BEGIN:DAYLIGHT
TZOFFSETFROM:-0600
TZOFFSETTO:-0500
TZNAME:CDT
DTSTART:20260308T080000
END:DAYLIGHT
BEGIN:STANDARD
TZOFFSETFROM:-0500
TZOFFSETTO:-0600
TZNAME:CST
DTSTART:20261101T070000
END:STANDARD
BEGIN:DAYLIGHT
TZOFFSETFROM:-0600
TZOFFSETTO:-0500
TZNAME:CDT
DTSTART:20270314T080000
END:DAYLIGHT
BEGIN:STANDARD
TZOFFSETFROM:-0500
TZOFFSETTO:-0600
TZNAME:CST
DTSTART:20271107T070000
END:STANDARD
BEGIN:DAYLIGHT
TZOFFSETFROM:-0600
TZOFFSETTO:-0500
TZNAME:CDT
DTSTART:20280312T080000
END:DAYLIGHT
BEGIN:STANDARD
TZOFFSETFROM:-0500
TZOFFSETTO:-0600
TZNAME:CST
DTSTART:20281105T070000
END:STANDARD
END:VTIMEZONE
BEGIN:VEVENT
DTSTART;TZID=America/Chicago:20270424T030000
DTEND;TZID=America/Chicago:20270425T025959
DTSTAMP:20260419T224625
CREATED:20260312T171237Z
LAST-MODIFIED:20260312T171239Z
UID:10002839-1808535600-1808621999@hpjc.org
SUMMARY:Earth Month EcoChallenge – People & Planet\, Resilient Together
DESCRIPTION:You’re invited to participate in the online Earth Month Ecochallenge! This event offers participants the opportunity to create a more resilient world – people and planet together – by taking on challenge(s) that resonate with your values\, and committing to them for 30 days to foster and reinforce positive habits. Categories for action include: what is resilience\, personal\, community\, work & organizations\, water\, soil & food\, biodiversity & wildlife and action track.  You can learn about these topics\, take action in your personal life\, advocate for just policy or create a new environmental justice/stewardship habit over the course of the month of the challenge!!   \n\n\n\nTwo Houston-based teams have already been set up – see the links below to join one of these two teams. Or form your own team\, or join as an individual at https://earthmonth.ecochallenge.org/! Contact Lisa Brenskelle at gcs.lrc@gmail.com with any questions about the teams. \n\n\n\nJoin Interfaith Environmental Network of Houston team: https://earthmonth.ecochallenge.org/participants/join?referral_code=6233bb60-6a20-4227-ade8-be6335ac7af3&team_id=interfaith-environmental-network-of-houston \n\n\n\nJoin Lutherans Restoring Creation – Gulf Coast team: https://earthmonth.ecochallenge.org/participants/join?referral_code=cdb49382-8a74-442b-baa6-a35c28516d74&team_id=lutherans-restoring-creation-gulf-coast
URL:https://hpjc.org/event/earth-month-ecochallenge-people-planet-resilient-together/2027-04-24/
LOCATION:online\, not applicable\, not applicable\, not applicable\, United States
CATEGORIES:Environmental & Environmental Justice
ATTACH;FMTTYPE=image/png:https://hpjc.org/wp-content/uploads/2026/03/Earth-Month-ecochallenge-logo-2026.png
ORGANIZER;CN="Interfaith Environmental Network of Houston":MAILTO:gcs.lrc@gmail.com
GEO:38.888684;-77.004719
X-APPLE-STRUCTURED-LOCATION;VALUE=URI;X-ADDRESS=online not applicable not applicable not applicable United States;X-APPLE-RADIUS=500;X-TITLE=not applicable:geo:-77.004719,38.888684
END:VEVENT
BEGIN:VEVENT
DTSTART;TZID=America/Chicago:20270425T030000
DTEND;TZID=America/Chicago:20270426T025959
DTSTAMP:20260419T224625
CREATED:20260312T171237Z
LAST-MODIFIED:20260312T171239Z
UID:10002840-1808622000-1808708399@hpjc.org
SUMMARY:Earth Month EcoChallenge – People & Planet\, Resilient Together
DESCRIPTION:You’re invited to participate in the online Earth Month Ecochallenge! This event offers participants the opportunity to create a more resilient world – people and planet together – by taking on challenge(s) that resonate with your values\, and committing to them for 30 days to foster and reinforce positive habits. Categories for action include: what is resilience\, personal\, community\, work & organizations\, water\, soil & food\, biodiversity & wildlife and action track.  You can learn about these topics\, take action in your personal life\, advocate for just policy or create a new environmental justice/stewardship habit over the course of the month of the challenge!!   \n\n\n\nTwo Houston-based teams have already been set up – see the links below to join one of these two teams. Or form your own team\, or join as an individual at https://earthmonth.ecochallenge.org/! Contact Lisa Brenskelle at gcs.lrc@gmail.com with any questions about the teams. \n\n\n\nJoin Interfaith Environmental Network of Houston team: https://earthmonth.ecochallenge.org/participants/join?referral_code=6233bb60-6a20-4227-ade8-be6335ac7af3&team_id=interfaith-environmental-network-of-houston \n\n\n\nJoin Lutherans Restoring Creation – Gulf Coast team: https://earthmonth.ecochallenge.org/participants/join?referral_code=cdb49382-8a74-442b-baa6-a35c28516d74&team_id=lutherans-restoring-creation-gulf-coast
URL:https://hpjc.org/event/earth-month-ecochallenge-people-planet-resilient-together/2027-04-25/
LOCATION:online\, not applicable\, not applicable\, not applicable\, United States
CATEGORIES:Environmental & Environmental Justice
ATTACH;FMTTYPE=image/png:https://hpjc.org/wp-content/uploads/2026/03/Earth-Month-ecochallenge-logo-2026.png
ORGANIZER;CN="Interfaith Environmental Network of Houston":MAILTO:gcs.lrc@gmail.com
GEO:38.888684;-77.004719
X-APPLE-STRUCTURED-LOCATION;VALUE=URI;X-ADDRESS=online not applicable not applicable not applicable United States;X-APPLE-RADIUS=500;X-TITLE=not applicable:geo:-77.004719,38.888684
END:VEVENT
BEGIN:VEVENT
DTSTART;TZID=America/Chicago:20270426T030000
DTEND;TZID=America/Chicago:20270427T025959
DTSTAMP:20260419T224626
CREATED:20260312T171237Z
LAST-MODIFIED:20260312T171239Z
UID:10002841-1808708400-1808794799@hpjc.org
SUMMARY:Earth Month EcoChallenge – People & Planet\, Resilient Together
DESCRIPTION:You’re invited to participate in the online Earth Month Ecochallenge! This event offers participants the opportunity to create a more resilient world – people and planet together – by taking on challenge(s) that resonate with your values\, and committing to them for 30 days to foster and reinforce positive habits. Categories for action include: what is resilience\, personal\, community\, work & organizations\, water\, soil & food\, biodiversity & wildlife and action track.  You can learn about these topics\, take action in your personal life\, advocate for just policy or create a new environmental justice/stewardship habit over the course of the month of the challenge!!   \n\n\n\nTwo Houston-based teams have already been set up – see the links below to join one of these two teams. Or form your own team\, or join as an individual at https://earthmonth.ecochallenge.org/! Contact Lisa Brenskelle at gcs.lrc@gmail.com with any questions about the teams. \n\n\n\nJoin Interfaith Environmental Network of Houston team: https://earthmonth.ecochallenge.org/participants/join?referral_code=6233bb60-6a20-4227-ade8-be6335ac7af3&team_id=interfaith-environmental-network-of-houston \n\n\n\nJoin Lutherans Restoring Creation – Gulf Coast team: https://earthmonth.ecochallenge.org/participants/join?referral_code=cdb49382-8a74-442b-baa6-a35c28516d74&team_id=lutherans-restoring-creation-gulf-coast
URL:https://hpjc.org/event/earth-month-ecochallenge-people-planet-resilient-together/2027-04-26/
LOCATION:online\, not applicable\, not applicable\, not applicable\, United States
CATEGORIES:Environmental & Environmental Justice
ATTACH;FMTTYPE=image/png:https://hpjc.org/wp-content/uploads/2026/03/Earth-Month-ecochallenge-logo-2026.png
ORGANIZER;CN="Interfaith Environmental Network of Houston":MAILTO:gcs.lrc@gmail.com
GEO:38.888684;-77.004719
X-APPLE-STRUCTURED-LOCATION;VALUE=URI;X-ADDRESS=online not applicable not applicable not applicable United States;X-APPLE-RADIUS=500;X-TITLE=not applicable:geo:-77.004719,38.888684
END:VEVENT
BEGIN:VEVENT
DTSTART;TZID=America/Chicago:20270427T030000
DTEND;TZID=America/Chicago:20270428T025959
DTSTAMP:20260419T224626
CREATED:20260312T171237Z
LAST-MODIFIED:20260312T171239Z
UID:10002842-1808794800-1808881199@hpjc.org
SUMMARY:Earth Month EcoChallenge – People & Planet\, Resilient Together
DESCRIPTION:You’re invited to participate in the online Earth Month Ecochallenge! This event offers participants the opportunity to create a more resilient world – people and planet together – by taking on challenge(s) that resonate with your values\, and committing to them for 30 days to foster and reinforce positive habits. Categories for action include: what is resilience\, personal\, community\, work & organizations\, water\, soil & food\, biodiversity & wildlife and action track.  You can learn about these topics\, take action in your personal life\, advocate for just policy or create a new environmental justice/stewardship habit over the course of the month of the challenge!!   \n\n\n\nTwo Houston-based teams have already been set up – see the links below to join one of these two teams. Or form your own team\, or join as an individual at https://earthmonth.ecochallenge.org/! Contact Lisa Brenskelle at gcs.lrc@gmail.com with any questions about the teams. \n\n\n\nJoin Interfaith Environmental Network of Houston team: https://earthmonth.ecochallenge.org/participants/join?referral_code=6233bb60-6a20-4227-ade8-be6335ac7af3&team_id=interfaith-environmental-network-of-houston \n\n\n\nJoin Lutherans Restoring Creation – Gulf Coast team: https://earthmonth.ecochallenge.org/participants/join?referral_code=cdb49382-8a74-442b-baa6-a35c28516d74&team_id=lutherans-restoring-creation-gulf-coast
URL:https://hpjc.org/event/earth-month-ecochallenge-people-planet-resilient-together/2027-04-27/
LOCATION:online\, not applicable\, not applicable\, not applicable\, United States
CATEGORIES:Environmental & Environmental Justice
ATTACH;FMTTYPE=image/png:https://hpjc.org/wp-content/uploads/2026/03/Earth-Month-ecochallenge-logo-2026.png
ORGANIZER;CN="Interfaith Environmental Network of Houston":MAILTO:gcs.lrc@gmail.com
GEO:38.888684;-77.004719
X-APPLE-STRUCTURED-LOCATION;VALUE=URI;X-ADDRESS=online not applicable not applicable not applicable United States;X-APPLE-RADIUS=500;X-TITLE=not applicable:geo:-77.004719,38.888684
END:VEVENT
BEGIN:VEVENT
DTSTART;TZID=America/Chicago:20270428T030000
DTEND;TZID=America/Chicago:20270429T025959
DTSTAMP:20260419T224626
CREATED:20260312T171237Z
LAST-MODIFIED:20260312T171239Z
UID:10002843-1808881200-1808967599@hpjc.org
SUMMARY:Earth Month EcoChallenge – People & Planet\, Resilient Together
DESCRIPTION:You’re invited to participate in the online Earth Month Ecochallenge! This event offers participants the opportunity to create a more resilient world – people and planet together – by taking on challenge(s) that resonate with your values\, and committing to them for 30 days to foster and reinforce positive habits. Categories for action include: what is resilience\, personal\, community\, work & organizations\, water\, soil & food\, biodiversity & wildlife and action track.  You can learn about these topics\, take action in your personal life\, advocate for just policy or create a new environmental justice/stewardship habit over the course of the month of the challenge!!   \n\n\n\nTwo Houston-based teams have already been set up – see the links below to join one of these two teams. Or form your own team\, or join as an individual at https://earthmonth.ecochallenge.org/! Contact Lisa Brenskelle at gcs.lrc@gmail.com with any questions about the teams. \n\n\n\nJoin Interfaith Environmental Network of Houston team: https://earthmonth.ecochallenge.org/participants/join?referral_code=6233bb60-6a20-4227-ade8-be6335ac7af3&team_id=interfaith-environmental-network-of-houston \n\n\n\nJoin Lutherans Restoring Creation – Gulf Coast team: https://earthmonth.ecochallenge.org/participants/join?referral_code=cdb49382-8a74-442b-baa6-a35c28516d74&team_id=lutherans-restoring-creation-gulf-coast
URL:https://hpjc.org/event/earth-month-ecochallenge-people-planet-resilient-together/2027-04-28/
LOCATION:online\, not applicable\, not applicable\, not applicable\, United States
CATEGORIES:Environmental & Environmental Justice
ATTACH;FMTTYPE=image/png:https://hpjc.org/wp-content/uploads/2026/03/Earth-Month-ecochallenge-logo-2026.png
ORGANIZER;CN="Interfaith Environmental Network of Houston":MAILTO:gcs.lrc@gmail.com
GEO:38.888684;-77.004719
X-APPLE-STRUCTURED-LOCATION;VALUE=URI;X-ADDRESS=online not applicable not applicable not applicable United States;X-APPLE-RADIUS=500;X-TITLE=not applicable:geo:-77.004719,38.888684
END:VEVENT
BEGIN:VEVENT
DTSTART;TZID=America/Chicago:20270429T030000
DTEND;TZID=America/Chicago:20270430T025959
DTSTAMP:20260419T224626
CREATED:20260312T171237Z
LAST-MODIFIED:20260312T171239Z
UID:10002844-1808967600-1809053999@hpjc.org
SUMMARY:Earth Month EcoChallenge – People & Planet\, Resilient Together
DESCRIPTION:You’re invited to participate in the online Earth Month Ecochallenge! This event offers participants the opportunity to create a more resilient world – people and planet together – by taking on challenge(s) that resonate with your values\, and committing to them for 30 days to foster and reinforce positive habits. Categories for action include: what is resilience\, personal\, community\, work & organizations\, water\, soil & food\, biodiversity & wildlife and action track.  You can learn about these topics\, take action in your personal life\, advocate for just policy or create a new environmental justice/stewardship habit over the course of the month of the challenge!!   \n\n\n\nTwo Houston-based teams have already been set up – see the links below to join one of these two teams. Or form your own team\, or join as an individual at https://earthmonth.ecochallenge.org/! Contact Lisa Brenskelle at gcs.lrc@gmail.com with any questions about the teams. \n\n\n\nJoin Interfaith Environmental Network of Houston team: https://earthmonth.ecochallenge.org/participants/join?referral_code=6233bb60-6a20-4227-ade8-be6335ac7af3&team_id=interfaith-environmental-network-of-houston \n\n\n\nJoin Lutherans Restoring Creation – Gulf Coast team: https://earthmonth.ecochallenge.org/participants/join?referral_code=cdb49382-8a74-442b-baa6-a35c28516d74&team_id=lutherans-restoring-creation-gulf-coast
URL:https://hpjc.org/event/earth-month-ecochallenge-people-planet-resilient-together/2027-04-29/
LOCATION:online\, not applicable\, not applicable\, not applicable\, United States
CATEGORIES:Environmental & Environmental Justice
ATTACH;FMTTYPE=image/png:https://hpjc.org/wp-content/uploads/2026/03/Earth-Month-ecochallenge-logo-2026.png
ORGANIZER;CN="Interfaith Environmental Network of Houston":MAILTO:gcs.lrc@gmail.com
GEO:38.888684;-77.004719
X-APPLE-STRUCTURED-LOCATION;VALUE=URI;X-ADDRESS=online not applicable not applicable not applicable United States;X-APPLE-RADIUS=500;X-TITLE=not applicable:geo:-77.004719,38.888684
END:VEVENT
BEGIN:VEVENT
DTSTART;TZID=America/Chicago:20270430T030000
DTEND;TZID=America/Chicago:20270501T025959
DTSTAMP:20260419T224626
CREATED:20260312T171237Z
LAST-MODIFIED:20260312T171239Z
UID:10002845-1809054000-1809140399@hpjc.org
SUMMARY:Earth Month EcoChallenge – People & Planet\, Resilient Together
DESCRIPTION:You’re invited to participate in the online Earth Month Ecochallenge! This event offers participants the opportunity to create a more resilient world – people and planet together – by taking on challenge(s) that resonate with your values\, and committing to them for 30 days to foster and reinforce positive habits. Categories for action include: what is resilience\, personal\, community\, work & organizations\, water\, soil & food\, biodiversity & wildlife and action track.  You can learn about these topics\, take action in your personal life\, advocate for just policy or create a new environmental justice/stewardship habit over the course of the month of the challenge!!   \n\n\n\nTwo Houston-based teams have already been set up – see the links below to join one of these two teams. Or form your own team\, or join as an individual at https://earthmonth.ecochallenge.org/! Contact Lisa Brenskelle at gcs.lrc@gmail.com with any questions about the teams. \n\n\n\nJoin Interfaith Environmental Network of Houston team: https://earthmonth.ecochallenge.org/participants/join?referral_code=6233bb60-6a20-4227-ade8-be6335ac7af3&team_id=interfaith-environmental-network-of-houston \n\n\n\nJoin Lutherans Restoring Creation – Gulf Coast team: https://earthmonth.ecochallenge.org/participants/join?referral_code=cdb49382-8a74-442b-baa6-a35c28516d74&team_id=lutherans-restoring-creation-gulf-coast
URL:https://hpjc.org/event/earth-month-ecochallenge-people-planet-resilient-together/2027-04-30/
LOCATION:online\, not applicable\, not applicable\, not applicable\, United States
CATEGORIES:Environmental & Environmental Justice
ATTACH;FMTTYPE=image/png:https://hpjc.org/wp-content/uploads/2026/03/Earth-Month-ecochallenge-logo-2026.png
ORGANIZER;CN="Interfaith Environmental Network of Houston":MAILTO:gcs.lrc@gmail.com
GEO:38.888684;-77.004719
X-APPLE-STRUCTURED-LOCATION;VALUE=URI;X-ADDRESS=online not applicable not applicable not applicable United States;X-APPLE-RADIUS=500;X-TITLE=not applicable:geo:-77.004719,38.888684
END:VEVENT
END:VCALENDAR