BEGIN:VCALENDAR
VERSION:2.0
PRODID:-//Houston Peace &amp; Justice Center - ECPv6.15.20//NONSGML v1.0//EN
CALSCALE:GREGORIAN
METHOD:PUBLISH
X-WR-CALNAME:Houston Peace &amp; Justice Center
X-ORIGINAL-URL:https://hpjc.org
X-WR-CALDESC:Events for Houston Peace &amp; Justice Center
REFRESH-INTERVAL;VALUE=DURATION:PT1H
X-Robots-Tag:noindex
X-PUBLISHED-TTL:PT1H
BEGIN:VTIMEZONE
TZID:America/Chicago
BEGIN:DAYLIGHT
TZOFFSETFROM:-0600
TZOFFSETTO:-0500
TZNAME:CDT
DTSTART:20150308T080000
END:DAYLIGHT
BEGIN:STANDARD
TZOFFSETFROM:-0500
TZOFFSETTO:-0600
TZNAME:CST
DTSTART:20151101T070000
END:STANDARD
BEGIN:DAYLIGHT
TZOFFSETFROM:-0600
TZOFFSETTO:-0500
TZNAME:CDT
DTSTART:20160313T080000
END:DAYLIGHT
BEGIN:STANDARD
TZOFFSETFROM:-0500
TZOFFSETTO:-0600
TZNAME:CST
DTSTART:20161106T070000
END:STANDARD
BEGIN:DAYLIGHT
TZOFFSETFROM:-0600
TZOFFSETTO:-0500
TZNAME:CDT
DTSTART:20170312T080000
END:DAYLIGHT
BEGIN:STANDARD
TZOFFSETFROM:-0500
TZOFFSETTO:-0600
TZNAME:CST
DTSTART:20171105T070000
END:STANDARD
END:VTIMEZONE
BEGIN:VEVENT
DTSTART;TZID=America/Chicago:20161207T170000
DTEND;TZID=America/Chicago:20161207T190000
DTSTAMP:20260419T150058
CREATED:20161130T004430Z
LAST-MODIFIED:20161130T032504Z
UID:10000114-1481130000-1481137200@hpjc.org
SUMMARY:Prayer Vigil to End the Death Penalty in Huntsville
DESCRIPTION:Start at 5pm at St. Thomas Catholic Church in Huntsville\, Texas (323 16th St.) for orientation.   Proceed to Huntsville Prison where executions take place for Prayer Vigil at 6pm.     Sponsored by Archdiocese of Galveston-Houston – Respect Life and Social Justice Offices.
URL:https://hpjc.org/event/prayer-vigil-end-death-penalty-huntsville/
LOCATION:St. Thomas Catholic Church\, 323 16th Street\, Huntsville\, TX\, United States
CATEGORIES:Human Rights & Criminal Justice
ATTACH;FMTTYPE=image/png:https://hpjc.org/wp-content/uploads/2016/11/Prayer-vigil-edit-3-2.png
ORGANIZER;CN="David Atwood":MAILTO:dpatwood@igc.org
GEO:30.7182942;-95.5379801
X-APPLE-STRUCTURED-LOCATION;VALUE=URI;X-ADDRESS=St. Thomas Catholic Church 323 16th Street Huntsville TX United States;X-APPLE-RADIUS=500;X-TITLE=323 16th Street:geo:-95.5379801,30.7182942
END:VEVENT
END:VCALENDAR