BEGIN:VCALENDAR
VERSION:2.0
PRODID:-//Houston Peace &amp; Justice Center - ECPv6.15.20//NONSGML v1.0//EN
CALSCALE:GREGORIAN
METHOD:PUBLISH
X-ORIGINAL-URL:https://hpjc.org
X-WR-CALDESC:Events for Houston Peace &amp; Justice Center
REFRESH-INTERVAL;VALUE=DURATION:PT1H
X-Robots-Tag:noindex
X-PUBLISHED-TTL:PT1H
BEGIN:VTIMEZONE
TZID:America/Chicago
BEGIN:DAYLIGHT
TZOFFSETFROM:-0600
TZOFFSETTO:-0500
TZNAME:CDT
DTSTART:20190310T080000
END:DAYLIGHT
BEGIN:STANDARD
TZOFFSETFROM:-0500
TZOFFSETTO:-0600
TZNAME:CST
DTSTART:20191103T070000
END:STANDARD
BEGIN:DAYLIGHT
TZOFFSETFROM:-0600
TZOFFSETTO:-0500
TZNAME:CDT
DTSTART:20200308T080000
END:DAYLIGHT
BEGIN:STANDARD
TZOFFSETFROM:-0500
TZOFFSETTO:-0600
TZNAME:CST
DTSTART:20201101T070000
END:STANDARD
BEGIN:DAYLIGHT
TZOFFSETFROM:-0600
TZOFFSETTO:-0500
TZNAME:CDT
DTSTART:20210314T080000
END:DAYLIGHT
BEGIN:STANDARD
TZOFFSETFROM:-0500
TZOFFSETTO:-0600
TZNAME:CST
DTSTART:20211107T070000
END:STANDARD
END:VTIMEZONE
BEGIN:VEVENT
DTSTART;TZID=America/Chicago:20200929T184500
DTEND;TZID=America/Chicago:20200929T184500
DTSTAMP:20260420T012706
CREATED:20200928T203056Z
LAST-MODIFIED:20200928T203057Z
UID:10001398-1601405100-1601405100@hpjc.org
SUMMARY:Virtual Texas Court of Criminal Appeals Candidates Forum
DESCRIPTION:Here is the link: \nhttps://zoom.us/j/94131310993 \nCriminal Appeals Forum for tomorrow: Sept. 29th – 6:45 pm \nTop 3 reasons to join: \n1 – Informed voters are the best voters. Hear from 5 of the 6 candidates for the 3 openings on this most important Court that decides on IPTX exonerations. All registered Texas voters will be voting for these three open Places. \n2 – It’s free! Zero cost to you – and you don’t even have to be an IPTX donor to join. \n3 – It’s a webinar; no need to dress up for the call (you won’t be seen). Just log on at 6:45. \nFeel free to share this email with any registered Texan voter.
URL:https://hpjc.org/event/virtual-texas-court-of-criminal-appeals-candidates-forum/
LOCATION:Zoom
CATEGORIES:Town Hall Meeting
ORGANIZER;CN="Innocence Project of Texas":MAILTO:info@innocencetexas.org
END:VEVENT
END:VCALENDAR