BEGIN:VCALENDAR
VERSION:2.0
PRODID:-//Houston Peace &amp; Justice Center - ECPv6.15.20//NONSGML v1.0//EN
CALSCALE:GREGORIAN
METHOD:PUBLISH
X-WR-CALNAME:Houston Peace &amp; Justice Center
X-ORIGINAL-URL:https://hpjc.org
X-WR-CALDESC:Events for Houston Peace &amp; Justice Center
REFRESH-INTERVAL;VALUE=DURATION:PT1H
X-Robots-Tag:noindex
X-PUBLISHED-TTL:PT1H
BEGIN:VTIMEZONE
TZID:America/Chicago
BEGIN:DAYLIGHT
TZOFFSETFROM:-0600
TZOFFSETTO:-0500
TZNAME:CDT
DTSTART:20160313T080000
END:DAYLIGHT
BEGIN:STANDARD
TZOFFSETFROM:-0500
TZOFFSETTO:-0600
TZNAME:CST
DTSTART:20161106T070000
END:STANDARD
BEGIN:DAYLIGHT
TZOFFSETFROM:-0600
TZOFFSETTO:-0500
TZNAME:CDT
DTSTART:20170312T080000
END:DAYLIGHT
BEGIN:STANDARD
TZOFFSETFROM:-0500
TZOFFSETTO:-0600
TZNAME:CST
DTSTART:20171105T070000
END:STANDARD
BEGIN:DAYLIGHT
TZOFFSETFROM:-0600
TZOFFSETTO:-0500
TZNAME:CDT
DTSTART:20180311T080000
END:DAYLIGHT
BEGIN:STANDARD
TZOFFSETFROM:-0500
TZOFFSETTO:-0600
TZNAME:CST
DTSTART:20181104T070000
END:STANDARD
END:VTIMEZONE
BEGIN:VEVENT
DTSTART;VALUE=DATE:20170218
DTEND;VALUE=DATE:20170219
DTSTAMP:20260419T131049
CREATED:20170111T160108Z
LAST-MODIFIED:20170111T160446Z
UID:10001343-1487386800-1487462399@hpjc.org
SUMMARY:Texas Coalition to Abolish the Death Penalty Annual Conference
DESCRIPTION:2017 Annual Conference of the Texas Coalition to Abolish the Death Penalty will take place on February 18 at St. David Episcopal Church in Austin\,  Texas.  Register by February 8 for discounted rate.  Conference includes workshops on the death penalty\,  Awards Luncheon and opportunities to network with other abolitionists in the state.  Join us as we continue our journey to abolish the death penalty in Texas.  More information and registration at www.tcadp.org.
URL:https://hpjc.org/event/texas-coalition-abolish-death-penalty-annual-conference/
LOCATION:St. David Episcopal Church\, Austin
CATEGORIES:Human Rights & Criminal Justice
ATTACH;FMTTYPE=image/jpeg:https://hpjc.org/wp-content/uploads/2017/01/atwood.jpg
ORGANIZER;CN="Kristin Houle":MAILTO:khoule@tcadp.org 
GEO:30.267153;-97.7430608
END:VEVENT
END:VCALENDAR