BEGIN:VCALENDAR
VERSION:2.0
PRODID:-//Houston Peace &amp; Justice Center - ECPv6.15.20//NONSGML v1.0//EN
CALSCALE:GREGORIAN
METHOD:PUBLISH
X-ORIGINAL-URL:https://hpjc.org
X-WR-CALDESC:Events for Houston Peace &amp; Justice Center
REFRESH-INTERVAL;VALUE=DURATION:PT1H
X-Robots-Tag:noindex
X-PUBLISHED-TTL:PT1H
BEGIN:VTIMEZONE
TZID:America/Chicago
BEGIN:DAYLIGHT
TZOFFSETFROM:-0600
TZOFFSETTO:-0500
TZNAME:CDT
DTSTART:20160313T080000
END:DAYLIGHT
BEGIN:STANDARD
TZOFFSETFROM:-0500
TZOFFSETTO:-0600
TZNAME:CST
DTSTART:20161106T070000
END:STANDARD
BEGIN:DAYLIGHT
TZOFFSETFROM:-0600
TZOFFSETTO:-0500
TZNAME:CDT
DTSTART:20170312T080000
END:DAYLIGHT
BEGIN:STANDARD
TZOFFSETFROM:-0500
TZOFFSETTO:-0600
TZNAME:CST
DTSTART:20171105T070000
END:STANDARD
BEGIN:DAYLIGHT
TZOFFSETFROM:-0600
TZOFFSETTO:-0500
TZNAME:CDT
DTSTART:20180311T080000
END:DAYLIGHT
BEGIN:STANDARD
TZOFFSETFROM:-0500
TZOFFSETTO:-0600
TZNAME:CST
DTSTART:20181104T070000
END:STANDARD
END:VTIMEZONE
BEGIN:VEVENT
DTSTART;TZID=America/Chicago:20170917T180000
DTEND;TZID=America/Chicago:20170917T210000
DTSTAMP:20260419T180944
CREATED:20170904T220508Z
LAST-MODIFIED:20170904T220508Z
UID:10000268-1505671200-1505682000@hpjc.org
SUMMARY:Houston Peace News 2017 Jazz Fundraiser
DESCRIPTION:Featuring: Peace Camp Youth\, Bob Henschen Jazz Quartet\, Free Radicals\, vegetarian Indian dinner\, and an Art Auction
URL:https://hpjc.org/event/houston-peace-news-2017-jazz-fundraiser/
LOCATION:Houston Mennonite Church\, 1231 Wirt Rd.\, Houston\, TX\, 77055\, United States
ATTACH;FMTTYPE=image/jpeg:https://hpjc.org/wp-content/uploads/2017/09/peaceNewsFundraiser2.jpg
ORGANIZER;CN="Nick":MAILTO:nickcooper@indymedia.org
GEO:29.791019;-95.485694
X-APPLE-STRUCTURED-LOCATION;VALUE=URI;X-ADDRESS=Houston Mennonite Church 1231 Wirt Rd. Houston TX 77055 United States;X-APPLE-RADIUS=500;X-TITLE=1231 Wirt Rd.:geo:-95.485694,29.791019
END:VEVENT
END:VCALENDAR