BEGIN:VCALENDAR
VERSION:2.0
PRODID:-//Houston Peace &amp; Justice Center - ECPv6.15.20//NONSGML v1.0//EN
CALSCALE:GREGORIAN
METHOD:PUBLISH
X-ORIGINAL-URL:https://hpjc.org
X-WR-CALDESC:Events for Houston Peace &amp; Justice Center
REFRESH-INTERVAL;VALUE=DURATION:PT1H
X-Robots-Tag:noindex
X-PUBLISHED-TTL:PT1H
BEGIN:VTIMEZONE
TZID:America/Chicago
BEGIN:DAYLIGHT
TZOFFSETFROM:-0600
TZOFFSETTO:-0500
TZNAME:CDT
DTSTART:20170312T080000
END:DAYLIGHT
BEGIN:STANDARD
TZOFFSETFROM:-0500
TZOFFSETTO:-0600
TZNAME:CST
DTSTART:20171105T070000
END:STANDARD
BEGIN:DAYLIGHT
TZOFFSETFROM:-0600
TZOFFSETTO:-0500
TZNAME:CDT
DTSTART:20180311T080000
END:DAYLIGHT
BEGIN:STANDARD
TZOFFSETFROM:-0500
TZOFFSETTO:-0600
TZNAME:CST
DTSTART:20181104T070000
END:STANDARD
BEGIN:DAYLIGHT
TZOFFSETFROM:-0600
TZOFFSETTO:-0500
TZNAME:CDT
DTSTART:20190310T080000
END:DAYLIGHT
BEGIN:STANDARD
TZOFFSETFROM:-0500
TZOFFSETTO:-0600
TZNAME:CST
DTSTART:20191103T070000
END:STANDARD
END:VTIMEZONE
BEGIN:VEVENT
DTSTART;TZID=America/Chicago:20180925T183000
DTEND;TZID=America/Chicago:20180925T200000
DTSTAMP:20260420T151146
CREATED:20180915T030456Z
LAST-MODIFIED:20180915T030456Z
UID:10000522-1537900200-1537905600@hpjc.org
SUMMARY:The Green Book: African-American Travel in the Jim Crow Era
DESCRIPTION:Under Jim Crow segregation laws\, African-Americans were often met with discrimination and intimidation as they traveled across the United States. Victor Green\, a black postal worker in New York\, published the first Negro Motorist Green Book in 1936 as a guide to businesses that would serve African-American travelers; over the next 28 years\, the annual publication helped scores of motorists find hotels\, tourist homes\, restaurants\, barber shops\, beauty parlors\, service stations and taverns across the country. \nGreen wrote that the Green Book would not be necessary “when we as a race will have equal opportunities and privileges.” He died in 1960 and the last edition of the guide was published in 1966. By that time\, the development of the national highway system had decreased the chances of discrimination against African-American motorists. The passage of the 1964 Civil Rights Act made the Green Book and similar publications obsolete\, just as Green had predicted. \nHoustonians Toya and Reuben Levi organized the Green Book Project to document African-Americans’ experiences traveling across the U.S. under Jim Crow through photos\, interviews and documentation of existing sites listed in the Green Book. The Levis will discuss the history and legacy of the Green Book\, as well as some of the Houston locations listed in the guide through the years\, in this illustrated lecture. \nDoors will open at 6 p.m. and the program will begin at 6:30 p.m. Tuesday\, September 25\, at the historic DeLuxe Theater\, 3303 Lyons Avenue. Free parking is available in the lot behind the theater as well as on the street. \nAdmission is free and open to the public; seating is limited. RSVP by Friday\, September 21. \n\n\nThis event is part of the Bart Truxillo Program Series\, which honors the memory of pioneer preservationist and Preservation Houston co-founder Bart Truxillo. The Bart Truxillo Program Series is made possible by the generous contributions of Preservation Houston’s members and friends.
URL:https://hpjc.org/event/the-green-book-african-american-travel-in-the-jim-crow-era/
LOCATION:The DeLuxe Theater\, 3303 Lyons Avenue\, Houston\, 77020
CATEGORIES:Presentation or Lecture
ATTACH;FMTTYPE=image/jpeg:https://hpjc.org/wp-content/uploads/2018/09/green-book.jpg
ORGANIZER;CN="Preservation Houston":MAILTO:contact@preservationhouston.org
GEO:29.7760605;-95.3366626
X-APPLE-STRUCTURED-LOCATION;VALUE=URI;X-ADDRESS=The DeLuxe Theater 3303 Lyons Avenue Houston 77020;X-APPLE-RADIUS=500;X-TITLE=3303 Lyons Avenue:geo:-95.3366626,29.7760605
END:VEVENT
END:VCALENDAR