BEGIN:VCALENDAR
VERSION:2.0
PRODID:-//Houston Peace &amp; Justice Center - ECPv6.15.20//NONSGML v1.0//EN
CALSCALE:GREGORIAN
METHOD:PUBLISH
X-ORIGINAL-URL:https://hpjc.org
X-WR-CALDESC:Events for Houston Peace &amp; Justice Center
REFRESH-INTERVAL;VALUE=DURATION:PT1H
X-Robots-Tag:noindex
X-PUBLISHED-TTL:PT1H
BEGIN:VTIMEZONE
TZID:America/Chicago
BEGIN:DAYLIGHT
TZOFFSETFROM:-0600
TZOFFSETTO:-0500
TZNAME:CDT
DTSTART:20180311T080000
END:DAYLIGHT
BEGIN:STANDARD
TZOFFSETFROM:-0500
TZOFFSETTO:-0600
TZNAME:CST
DTSTART:20181104T070000
END:STANDARD
BEGIN:DAYLIGHT
TZOFFSETFROM:-0600
TZOFFSETTO:-0500
TZNAME:CDT
DTSTART:20190310T080000
END:DAYLIGHT
BEGIN:STANDARD
TZOFFSETFROM:-0500
TZOFFSETTO:-0600
TZNAME:CST
DTSTART:20191103T070000
END:STANDARD
BEGIN:DAYLIGHT
TZOFFSETFROM:-0600
TZOFFSETTO:-0500
TZNAME:CDT
DTSTART:20200308T080000
END:DAYLIGHT
BEGIN:STANDARD
TZOFFSETFROM:-0500
TZOFFSETTO:-0600
TZNAME:CST
DTSTART:20201101T070000
END:STANDARD
END:VTIMEZONE
BEGIN:VEVENT
DTSTART;TZID=America/Chicago:20190427T090000
DTEND;TZID=America/Chicago:20190427T153000
DTSTAMP:20260420T124237
CREATED:20190404T195445Z
LAST-MODIFIED:20190404T195600Z
UID:10000622-1556355600-1556379000@hpjc.org
SUMMARY:Wellness Summit
DESCRIPTION:Weight loss and Wellness Summit – learn from breakout sessions provided by doctors\, registered dietitian\, nutritionist\, exercise physiologist\, health coach\, and food for life instructor. Our inspiring Keynote Speaker is Josh Lajaunie who will share tips and tricks from his journey of going from 420 lbs to ultra marathon runner. \nPlant based lunch will be provided.
URL:https://hpjc.org/event/wellness-summit/
LOCATION:5959 Corporate Dr Houston\, Texas\, 5959 Corporate Dr\, Houston\, 77036
CATEGORIES:Presentation or Lecture
ATTACH;FMTTYPE=image/png:https://hpjc.org/wp-content/uploads/2019/04/bites.png
END:VEVENT
END:VCALENDAR