BEGIN:VCALENDAR
VERSION:2.0
PRODID:-//Houston Peace &amp; Justice Center - ECPv6.15.20//NONSGML v1.0//EN
CALSCALE:GREGORIAN
METHOD:PUBLISH
X-ORIGINAL-URL:https://hpjc.org
X-WR-CALDESC:Events for Houston Peace &amp; Justice Center
REFRESH-INTERVAL;VALUE=DURATION:PT1H
X-Robots-Tag:noindex
X-PUBLISHED-TTL:PT1H
BEGIN:VTIMEZONE
TZID:America/Chicago
BEGIN:DAYLIGHT
TZOFFSETFROM:-0600
TZOFFSETTO:-0500
TZNAME:CDT
DTSTART:20160313T080000
END:DAYLIGHT
BEGIN:STANDARD
TZOFFSETFROM:-0500
TZOFFSETTO:-0600
TZNAME:CST
DTSTART:20161106T070000
END:STANDARD
BEGIN:DAYLIGHT
TZOFFSETFROM:-0600
TZOFFSETTO:-0500
TZNAME:CDT
DTSTART:20170312T080000
END:DAYLIGHT
BEGIN:STANDARD
TZOFFSETFROM:-0500
TZOFFSETTO:-0600
TZNAME:CST
DTSTART:20171105T070000
END:STANDARD
BEGIN:DAYLIGHT
TZOFFSETFROM:-0600
TZOFFSETTO:-0500
TZNAME:CDT
DTSTART:20180311T080000
END:DAYLIGHT
BEGIN:STANDARD
TZOFFSETFROM:-0500
TZOFFSETTO:-0600
TZNAME:CST
DTSTART:20181104T070000
END:STANDARD
END:VTIMEZONE
BEGIN:VEVENT
DTSTART;TZID=America/Chicago:20170305T090000
DTEND;TZID=America/Chicago:20170305T110000
DTSTAMP:20260419T134202
CREATED:20170217T211455Z
LAST-MODIFIED:20170217T211455Z
UID:10000164-1488704400-1488711600@hpjc.org
SUMMARY:Breakfast Yoga Club & Red Sand Project
DESCRIPTION:You are cordially invited! \nBorder\, USA|MX Earthwork\n1302 Dennis Street\nHouston\, TX 77004 \nSunday\, March 5th\, 9 – 11 AM \n“We can’t merely pass by or walk over the most overlooked and marginalized populations in our communities. Join the movement to expand freedom and end modern-day slavery.”\n\nPlease join BYC Houston and Red Sand Project as we shine the light on human trafficking\, learn how we can be of service and come together to raise the vibration of our city and beyond. \nIf you love what we offer\, this event promises an entirely new concept as to what it means to be of service. \nRaise the bar. Take Action.\n#redsandproject #yogainaction #seva #RSPxBYC \nIf you have not yet experienced a BYC event\, expect a guided meditation\, one hour Yoga session in round robin style by four hand-picked local teachers\, followed by breakfast & refreshments and connecting with other amazing Houston yogis. Breakfast tacos provided by Tacos Tierra Caliente. Who doesn’t LOVE breakfast tacos?! Please sign up here so we can have an accurate headcount for breakfast – https://www.eventbrite.com/e/breakfast-yoga-club-red-sand-project-tickets-32070284083
URL:https://hpjc.org/event/breakfast-yoga-club-red-sand-project/
LOCATION:Border\, USA|MX Earthwork\, 1302 Dennis Street\, Houston\, TN\, 77004\, United States
CATEGORIES:Human Rights & Criminal Justice,Social
ATTACH;FMTTYPE=image/jpeg:https://hpjc.org/wp-content/uploads/2017/02/Red-Graphic-Facebook-Page.jpg
ORGANIZER;CN="Red Sand Project":MAILTO:Chance@redsandproject.com
GEO:29.7428349;-95.3721513
X-APPLE-STRUCTURED-LOCATION;VALUE=URI;X-ADDRESS=Border USA|MX Earthwork 1302 Dennis Street Houston TN 77004 United States;X-APPLE-RADIUS=500;X-TITLE=1302 Dennis Street:geo:-95.3721513,29.7428349
END:VEVENT
END:VCALENDAR