BEGIN:VCALENDAR
VERSION:2.0
PRODID:-//Houston Peace &amp; Justice Center - ECPv6.15.20//NONSGML v1.0//EN
CALSCALE:GREGORIAN
METHOD:PUBLISH
X-ORIGINAL-URL:https://hpjc.org
X-WR-CALDESC:Events for Houston Peace &amp; Justice Center
REFRESH-INTERVAL;VALUE=DURATION:PT1H
X-Robots-Tag:noindex
X-PUBLISHED-TTL:PT1H
BEGIN:VTIMEZONE
TZID:America/Chicago
BEGIN:DAYLIGHT
TZOFFSETFROM:-0600
TZOFFSETTO:-0500
TZNAME:CDT
DTSTART:20150308T080000
END:DAYLIGHT
BEGIN:STANDARD
TZOFFSETFROM:-0500
TZOFFSETTO:-0600
TZNAME:CST
DTSTART:20151101T070000
END:STANDARD
BEGIN:DAYLIGHT
TZOFFSETFROM:-0600
TZOFFSETTO:-0500
TZNAME:CDT
DTSTART:20160313T080000
END:DAYLIGHT
BEGIN:STANDARD
TZOFFSETFROM:-0500
TZOFFSETTO:-0600
TZNAME:CST
DTSTART:20161106T070000
END:STANDARD
BEGIN:DAYLIGHT
TZOFFSETFROM:-0600
TZOFFSETTO:-0500
TZNAME:CDT
DTSTART:20170312T080000
END:DAYLIGHT
BEGIN:STANDARD
TZOFFSETFROM:-0500
TZOFFSETTO:-0600
TZNAME:CST
DTSTART:20171105T070000
END:STANDARD
END:VTIMEZONE
BEGIN:VEVENT
DTSTART;TZID=America/Chicago:20160802T193000
DTEND;TZID=America/Chicago:20160802T204500
DTSTAMP:20260419T080647
CREATED:20160708T184927Z
LAST-MODIFIED:20160708T184927Z
UID:10000076-1470166200-1470170700@hpjc.org
SUMMARY:August "Take Action" Event
DESCRIPTION:Please attend\nFree and open to the public; \n\nAmnesty international Houston’s\n“Take Action” Event !\n\n Tuesday\, August 2nd\nat 7:30 PM\nin the Central Market Community Room\n(3815 Westheimer)\n\nFood\, Drink & Information re: the\n10 initiatives we defend and support!\nMeet us & learn how *you* can make a difference locally and globally !\n\nFor more\, find us on Facebook \, Twitter\,\n\nhttp://www.amnestyhouston.org/\n\nor email us;\nmail@amnestyhouston.org\nTo join our listserv\, email us at;\namnestyhouston-subscribe@yahoogroups.com\n\nPeace\, Salaam\, Shalom\, Juli Kring\nJuli3@aol.com\n\n “You must be the change you wish to see in the world.”\n~Mahatma Gandhi
URL:https://hpjc.org/event/august-take-action-event/
LOCATION:Central Market Community Room\, 3815 Westheimer\, Houston\, 77027
CATEGORIES:Human Rights & Criminal Justice,Non-HPJC Meeting
GEO:29.7410236;-95.4440353
X-APPLE-STRUCTURED-LOCATION;VALUE=URI;X-ADDRESS=Central Market Community Room 3815 Westheimer Houston 77027;X-APPLE-RADIUS=500;X-TITLE=3815 Westheimer:geo:-95.4440353,29.7410236
END:VEVENT
END:VCALENDAR