BEGIN:VCALENDAR
VERSION:2.0
PRODID:-//Houston Peace &amp; Justice Center - ECPv6.15.20//NONSGML v1.0//EN
CALSCALE:GREGORIAN
METHOD:PUBLISH
X-ORIGINAL-URL:https://hpjc.org
X-WR-CALDESC:Events for Houston Peace &amp; Justice Center
REFRESH-INTERVAL;VALUE=DURATION:PT1H
X-Robots-Tag:noindex
X-PUBLISHED-TTL:PT1H
BEGIN:VTIMEZONE
TZID:America/Chicago
BEGIN:DAYLIGHT
TZOFFSETFROM:-0600
TZOFFSETTO:-0500
TZNAME:CDT
DTSTART:20160313T080000
END:DAYLIGHT
BEGIN:STANDARD
TZOFFSETFROM:-0500
TZOFFSETTO:-0600
TZNAME:CST
DTSTART:20161106T070000
END:STANDARD
BEGIN:DAYLIGHT
TZOFFSETFROM:-0600
TZOFFSETTO:-0500
TZNAME:CDT
DTSTART:20170312T080000
END:DAYLIGHT
BEGIN:STANDARD
TZOFFSETFROM:-0500
TZOFFSETTO:-0600
TZNAME:CST
DTSTART:20171105T070000
END:STANDARD
BEGIN:DAYLIGHT
TZOFFSETFROM:-0600
TZOFFSETTO:-0500
TZNAME:CDT
DTSTART:20180311T080000
END:DAYLIGHT
BEGIN:STANDARD
TZOFFSETFROM:-0500
TZOFFSETTO:-0600
TZNAME:CST
DTSTART:20181104T070000
END:STANDARD
BEGIN:DAYLIGHT
TZOFFSETFROM:-0600
TZOFFSETTO:-0500
TZNAME:CDT
DTSTART:20190310T080000
END:DAYLIGHT
BEGIN:STANDARD
TZOFFSETFROM:-0500
TZOFFSETTO:-0600
TZNAME:CST
DTSTART:20191103T070000
END:STANDARD
END:VTIMEZONE
BEGIN:VEVENT
DTSTART;TZID=America/Chicago:20181130T190000
DTEND;TZID=America/Chicago:20181130T190000
DTSTAMP:20260419T135851
CREATED:20180528T203015Z
LAST-MODIFIED:20180528T203015Z
UID:10000460-1543604400-1543604400@hpjc.org
SUMMARY:All Earth is Waiting – An Advent Retreat
DESCRIPTION:Escape from the frenzy of the start of the “Christmas shopping season” on an intimate\, 24-hour retreat in the beauty of God’s good creation at the Cramer Retreat Center in Spring.  This retreat invites you to get ready for the coming of Christ by exploring familiar Advent themes: hope\, preparation\, joy and peace\, with the reconciliation of heaven and earth in mind. Consider how all creation longs for the coming of Christ\, and how we are called to witness the Incarnation in our care of all God’s created world and all God’s creatures.  Enjoy a time of renewal\, reflection\, recreation\, and restoration on this retreat.  The retreat is open to adults\, and to youth 10+\, when accompanied by an adult. Plan now to participate!   Retreat cost is $60 (+ ticketing fees)\, which covers 3 meals on Saturday\, overnight lodging & a reception on Friday evening. Space is limited\, so please register early. For more information\, contact Lisa Brenskelle at gcs.lrc@gmail.com. \n 
URL:https://hpjc.org/event/all-earth-is-waiting-an-advent-retreat/
LOCATION:Cramer Retreat Center\, 1800 Meadow Edge Lane\, Spring\, TX\, 77388\, United States
CATEGORIES:Environmental & Environmental Justice
ATTACH;FMTTYPE=image/jpeg:https://hpjc.org/wp-content/uploads/2018/05/Cramer-snip.jpg
ORGANIZER;CN="Christ the King Evangelical Lutheran Church":MAILTO:ctk@ctkelc.org
GEO:30.058917;-95.442471
X-APPLE-STRUCTURED-LOCATION;VALUE=URI;X-ADDRESS=Cramer Retreat Center 1800 Meadow Edge Lane Spring TX 77388 United States;X-APPLE-RADIUS=500;X-TITLE=1800 Meadow Edge Lane:geo:-95.442471,30.058917
END:VEVENT
BEGIN:VEVENT
DTSTART;TZID=America/Chicago:20171027T190000
DTEND;TZID=America/Chicago:20171028T190000
DTSTAMP:20260419T135851
CREATED:20171002T202750Z
LAST-MODIFIED:20171011T203826Z
UID:10000293-1509130800-1509217200@hpjc.org
SUMMARY:Eco-Reformation Retreat: Awe & Wonder
DESCRIPTION:Christ the King Evangelical Lutheran Church invites area Christians to a 24-hour getaway in the beauty of God’s good creation at the Eco-Reformation Retreat: Awe & Wonder.  Join us at Cramer Retreat Center in Spring the weekend of the festival of Reformation\, beginning Friday evening\, Oct. 27 and ending Saturday evening\, Oct. 28.    This year’s retreat explores awe and wonder as a pathway to eco-reformation.  Contemplating the awesomeness of God\, thru consideration both of scripture and our scientific understanding of the universe\, we can come to a true sense of wonder that leads to right relationship with God and God’s good creation. In addition to study\, this retreat includes time for recreation\, reflection\, and service.  Retreat cost is $60 (+ ticketing fees)\, which covers 3 meals on Saturday\, overnight lodging & a reception on Friday evening. Space is limited\, so please register early. The retreat is open to adults of all ages\, and to youth 10+\, when accompanied by an adult. For more information\, contact Lisa Brenskelle at gcs.lrc@gmail.com.
URL:https://hpjc.org/event/eco-reformation-retreat-awe-wonder/
LOCATION:Cramer Retreat Center\, 1800 Meadow Edge Lane\, Spring\, TX\, 77388\, United States
CATEGORIES:Environmental & Environmental Justice
ATTACH;FMTTYPE=image/jpeg:https://hpjc.org/wp-content/uploads/2017/09/Cramer-snip.jpg
ORGANIZER;CN="Christ the King Evangelical Lutheran Church":MAILTO:ctk@ctkelc.org
GEO:30.058917;-95.442471
X-APPLE-STRUCTURED-LOCATION;VALUE=URI;X-ADDRESS=Cramer Retreat Center 1800 Meadow Edge Lane Spring TX 77388 United States;X-APPLE-RADIUS=500;X-TITLE=1800 Meadow Edge Lane:geo:-95.442471,30.058917
END:VEVENT
END:VCALENDAR