BEGIN:VCALENDAR
VERSION:2.0
PRODID:-//Houston Peace &amp; Justice Center - ECPv6.15.20//NONSGML v1.0//EN
CALSCALE:GREGORIAN
METHOD:PUBLISH
X-WR-CALNAME:Houston Peace &amp; Justice Center
X-ORIGINAL-URL:https://hpjc.org
X-WR-CALDESC:Events for Houston Peace &amp; Justice Center
REFRESH-INTERVAL;VALUE=DURATION:PT1H
X-Robots-Tag:noindex
X-PUBLISHED-TTL:PT1H
BEGIN:VTIMEZONE
TZID:America/Chicago
BEGIN:DAYLIGHT
TZOFFSETFROM:-0600
TZOFFSETTO:-0500
TZNAME:CDT
DTSTART:20160313T080000
END:DAYLIGHT
BEGIN:STANDARD
TZOFFSETFROM:-0500
TZOFFSETTO:-0600
TZNAME:CST
DTSTART:20161106T070000
END:STANDARD
BEGIN:DAYLIGHT
TZOFFSETFROM:-0600
TZOFFSETTO:-0500
TZNAME:CDT
DTSTART:20170312T080000
END:DAYLIGHT
BEGIN:STANDARD
TZOFFSETFROM:-0500
TZOFFSETTO:-0600
TZNAME:CST
DTSTART:20171105T070000
END:STANDARD
BEGIN:DAYLIGHT
TZOFFSETFROM:-0600
TZOFFSETTO:-0500
TZNAME:CDT
DTSTART:20180311T080000
END:DAYLIGHT
BEGIN:STANDARD
TZOFFSETFROM:-0500
TZOFFSETTO:-0600
TZNAME:CST
DTSTART:20181104T070000
END:STANDARD
END:VTIMEZONE
BEGIN:VEVENT
DTSTART;TZID=America/Chicago:20170209T120000
DTEND;TZID=America/Chicago:20170209T150000
DTSTAMP:20260421T105028
CREATED:20170209T041415Z
LAST-MODIFIED:20170209T041433Z
UID:10000160-1486641600-1486652400@hpjc.org
SUMMARY:#NoDAPL Last Stand Houston
DESCRIPTION:This is the Last Stand. Prompted by Trump’s Executive Order\, the Army Corps of Engineers has granted easement for the Dakota Access Pipeline\, breaking off the Environmental Impact Study that was promised. \nThese lies and betrayals cannot be allowed to continue. We can no longer allow corporate interests to run our government. We can no longer allow the injustice\, the environmental destruction\, the marginalization of native peoples. Rise up\, stand up\, unite. \nPlease share and invite others.
URL:https://hpjc.org/event/nodapl-last-stand-houston/
LOCATION:Energy Transfer Partners\, 1300 Main St\, Houston\, 77002\, United States
CATEGORIES:Environmental & Environmental Justice
ATTACH;FMTTYPE=image/jpeg:https://hpjc.org/wp-content/uploads/2017/02/nodapl.jpg
GEO:29.7547591;-95.3673237
X-APPLE-STRUCTURED-LOCATION;VALUE=URI;X-ADDRESS=Energy Transfer Partners 1300 Main St Houston 77002 United States;X-APPLE-RADIUS=500;X-TITLE=1300 Main St:geo:-95.3673237,29.7547591
END:VEVENT
END:VCALENDAR