BEGIN:VCALENDAR
VERSION:2.0
PRODID:-//Houston Peace &amp; Justice Center - ECPv6.15.20//NONSGML v1.0//EN
CALSCALE:GREGORIAN
METHOD:PUBLISH
X-WR-CALNAME:Houston Peace &amp; Justice Center
X-ORIGINAL-URL:https://hpjc.org
X-WR-CALDESC:Events for Houston Peace &amp; Justice Center
REFRESH-INTERVAL;VALUE=DURATION:PT1H
X-Robots-Tag:noindex
X-PUBLISHED-TTL:PT1H
BEGIN:VTIMEZONE
TZID:America/Chicago
BEGIN:DAYLIGHT
TZOFFSETFROM:-0600
TZOFFSETTO:-0500
TZNAME:CDT
DTSTART:20150308T080000
END:DAYLIGHT
BEGIN:STANDARD
TZOFFSETFROM:-0500
TZOFFSETTO:-0600
TZNAME:CST
DTSTART:20151101T070000
END:STANDARD
BEGIN:DAYLIGHT
TZOFFSETFROM:-0600
TZOFFSETTO:-0500
TZNAME:CDT
DTSTART:20160313T080000
END:DAYLIGHT
BEGIN:STANDARD
TZOFFSETFROM:-0500
TZOFFSETTO:-0600
TZNAME:CST
DTSTART:20161106T070000
END:STANDARD
BEGIN:DAYLIGHT
TZOFFSETFROM:-0600
TZOFFSETTO:-0500
TZNAME:CDT
DTSTART:20170312T080000
END:DAYLIGHT
BEGIN:STANDARD
TZOFFSETFROM:-0500
TZOFFSETTO:-0600
TZNAME:CST
DTSTART:20171105T070000
END:STANDARD
END:VTIMEZONE
BEGIN:VEVENT
DTSTART;TZID=America/Chicago:20160527T160000
DTEND;TZID=America/Chicago:20160527T180000
DTSTAMP:20260421T152039
CREATED:20160518T015332Z
LAST-MODIFIED:20160518T015332Z
UID:10000059-1464364800-1464372000@hpjc.org
SUMMARY:Justice for Janitors Strike Vote Rally!
DESCRIPTION:The J4J team has a fun-filled line-up of activities for the rest of the month of May leading up to the janitors’ contract expiration on May 31st. \n#RaiseHouston #‎RaiseAmerica‬ ‪#‎MakeHoustonGreat‬ ‪#‎HoustonJanitors‬ #Fightfor15 \nJanitors will be voting on whether or not to strike; come to this rally to find out the results of what they janitors will do!  If there is only one rally you can come to\, THIS IS IT! \nArriba la union y abajo la explotación! We’re asking building owners to support a contract that lifts Houston’s working families. \nThe Fortune 500 companies who dominate our skyline continue to make record profits yet ⅓ of Houstonians make less than $12 an hour. As companies in Houston prosper\, no Houstonian should be left behind\, stand with us if you believe Houston should work for every Houstonian\, not just the very rich.
URL:https://hpjc.org/event/justice-for-janitors-strike-vote-rally/
LOCATION:Hyatt Regency Downtown\, 1200 Louisiana St.\, Houston\, TX\, 77002\, United States
CATEGORIES:Economic Justice
ATTACH;FMTTYPE=image/jpeg:https://hpjc.org/wp-content/uploads/2016/05/J4J.jpg
GEO:29.7570609;-95.3694708
X-APPLE-STRUCTURED-LOCATION;VALUE=URI;X-ADDRESS=Hyatt Regency Downtown 1200 Louisiana St. Houston TX 77002 United States;X-APPLE-RADIUS=500;X-TITLE=1200 Louisiana St.:geo:-95.3694708,29.7570609
END:VEVENT
END:VCALENDAR