BEGIN:VCALENDAR
VERSION:2.0
PRODID:-//Houston Peace &amp; Justice Center - ECPv6.15.20//NONSGML v1.0//EN
CALSCALE:GREGORIAN
METHOD:PUBLISH
X-ORIGINAL-URL:https://hpjc.org
X-WR-CALDESC:Events for Houston Peace &amp; Justice Center
REFRESH-INTERVAL;VALUE=DURATION:PT1H
X-Robots-Tag:noindex
X-PUBLISHED-TTL:PT1H
BEGIN:VTIMEZONE
TZID:America/Chicago
BEGIN:DAYLIGHT
TZOFFSETFROM:-0600
TZOFFSETTO:-0500
TZNAME:CDT
DTSTART:20170312T080000
END:DAYLIGHT
BEGIN:STANDARD
TZOFFSETFROM:-0500
TZOFFSETTO:-0600
TZNAME:CST
DTSTART:20171105T070000
END:STANDARD
BEGIN:DAYLIGHT
TZOFFSETFROM:-0600
TZOFFSETTO:-0500
TZNAME:CDT
DTSTART:20180311T080000
END:DAYLIGHT
BEGIN:STANDARD
TZOFFSETFROM:-0500
TZOFFSETTO:-0600
TZNAME:CST
DTSTART:20181104T070000
END:STANDARD
BEGIN:DAYLIGHT
TZOFFSETFROM:-0600
TZOFFSETTO:-0500
TZNAME:CDT
DTSTART:20190310T080000
END:DAYLIGHT
BEGIN:STANDARD
TZOFFSETFROM:-0500
TZOFFSETTO:-0600
TZNAME:CST
DTSTART:20191103T070000
END:STANDARD
END:VTIMEZONE
BEGIN:VEVENT
DTSTART;TZID=America/Chicago:20180428T150000
DTEND;TZID=America/Chicago:20180428T170000
DTSTAMP:20260421T061213
CREATED:20180423T005528Z
LAST-MODIFIED:20180423T005528Z
UID:10000425-1524927600-1524934800@hpjc.org
SUMMARY:Police Brutality Around Us: History & Discussion
DESCRIPTION:This event will highlight a Northside student’s presentation on police brutality. We will also have speakers\, including Janie Torres\, to discuss the history of police brutality in our area. \nWhile the murder of Joe Campos Torres and the Moody Park Riots will be our main topics\, we would like to remind everyone that the murder of Joe Campos Torres and the Moody Park riots are not just historical events. Family members still feel the loss of Joe Campos Torres and police brutality continues to be an issue today. \nWe are grateful for the next generation of leaders who will continue progress on the issue of police brutality. \n********SPEAKERS LIST******** \nHector Rodriguez\nJanie Torres\nAlbert Martinez
URL:https://hpjc.org/event/police-brutality-around-us-history-discussion/
LOCATION:Moody Park Gazebo\, 3725 Fulton St.\, Houston\, 77009
CATEGORIES:Human Rights & Criminal Justice
ATTACH;FMTTYPE=image/jpeg:https://hpjc.org/wp-content/uploads/2018/04/30656401_10111475869158090_2986801539894476800_n.jpg
GEO:29.7940318;-95.3651283
X-APPLE-STRUCTURED-LOCATION;VALUE=URI;X-ADDRESS=Moody Park Gazebo 3725 Fulton St. Houston 77009;X-APPLE-RADIUS=500;X-TITLE=3725 Fulton St.:geo:-95.3651283,29.7940318
END:VEVENT
END:VCALENDAR