BEGIN:VCALENDAR
VERSION:2.0
PRODID:-//Houston Peace &amp; Justice Center - ECPv6.15.20//NONSGML v1.0//EN
CALSCALE:GREGORIAN
METHOD:PUBLISH
X-WR-CALNAME:Houston Peace &amp; Justice Center
X-ORIGINAL-URL:https://hpjc.org
X-WR-CALDESC:Events for Houston Peace &amp; Justice Center
REFRESH-INTERVAL;VALUE=DURATION:PT1H
X-Robots-Tag:noindex
X-PUBLISHED-TTL:PT1H
BEGIN:VTIMEZONE
TZID:America/Chicago
BEGIN:DAYLIGHT
TZOFFSETFROM:-0600
TZOFFSETTO:-0500
TZNAME:CDT
DTSTART:20150308T080000
END:DAYLIGHT
BEGIN:STANDARD
TZOFFSETFROM:-0500
TZOFFSETTO:-0600
TZNAME:CST
DTSTART:20151101T070000
END:STANDARD
BEGIN:DAYLIGHT
TZOFFSETFROM:-0600
TZOFFSETTO:-0500
TZNAME:CDT
DTSTART:20160313T080000
END:DAYLIGHT
BEGIN:STANDARD
TZOFFSETFROM:-0500
TZOFFSETTO:-0600
TZNAME:CST
DTSTART:20161106T070000
END:STANDARD
BEGIN:DAYLIGHT
TZOFFSETFROM:-0600
TZOFFSETTO:-0500
TZNAME:CDT
DTSTART:20170312T080000
END:DAYLIGHT
BEGIN:STANDARD
TZOFFSETFROM:-0500
TZOFFSETTO:-0600
TZNAME:CST
DTSTART:20171105T070000
END:STANDARD
END:VTIMEZONE
BEGIN:VEVENT
DTSTART;TZID=America/Chicago:20160403T180000
DTEND;TZID=America/Chicago:20160403T220000
DTSTAMP:20260419T080820
CREATED:20160330T021100Z
LAST-MODIFIED:20160330T021100Z
UID:10000028-1459706400-1459720800@hpjc.org
SUMMARY:Red Sand Project Benefit at Poison Girl Cocktail Lounge. Take Action Against Human Trafficking
DESCRIPTION:Help take action against human trafficking. \nOn the first Sunday of the month\, Poison Girl donates the night’s proceeds to a local non-profit organization. Visit Poison Girl Cocktail Lounge from 4 p.m. to close Sunday\, April 3\, 2016 for Drink Houston Better\, with the proceeds benefiting Red Sand Project. \nRed Sand Project is an activist artwork that uses participatory sidewalk interventions\, earthwork installations\, and convenings to create opportunities for people to question\, to connect and to take action against human trafficking.
URL:https://hpjc.org/event/red-sand-project-benefit-at-poison-girl-cocktail-lounge-take-action-against-human-trafficking/
LOCATION:Poison Girl Cocktail Lounge\, 1641 Westheimer Rd suite B\, Houston\, Texas 77006\, Houston\, 77006
CATEGORIES:Human Rights & Criminal Justice
ATTACH;FMTTYPE=image/jpeg:https://hpjc.org/wp-content/uploads/2016/03/FINAL-8-FLYER2m.jpg
ORGANIZER;CN="Red Sand Project":MAILTO:Chance@redsandproject.com
GEO:29.7425964;-95.4010712
X-APPLE-STRUCTURED-LOCATION;VALUE=URI;X-ADDRESS=Poison Girl Cocktail Lounge 1641 Westheimer Rd suite B Houston Texas 77006 Houston 77006;X-APPLE-RADIUS=500;X-TITLE=1641 Westheimer Rd suite B\, Houston\, Texas 77006:geo:-95.4010712,29.7425964
END:VEVENT
END:VCALENDAR