BEGIN:VCALENDAR
VERSION:2.0
PRODID:-//Houston Peace &amp; Justice Center - ECPv6.15.20//NONSGML v1.0//EN
CALSCALE:GREGORIAN
METHOD:PUBLISH
X-WR-CALNAME:Houston Peace &amp; Justice Center
X-ORIGINAL-URL:https://hpjc.org
X-WR-CALDESC:Events for Houston Peace &amp; Justice Center
REFRESH-INTERVAL;VALUE=DURATION:PT1H
X-Robots-Tag:noindex
X-PUBLISHED-TTL:PT1H
BEGIN:VTIMEZONE
TZID:America/Chicago
BEGIN:DAYLIGHT
TZOFFSETFROM:-0600
TZOFFSETTO:-0500
TZNAME:CDT
DTSTART:20150308T080000
END:DAYLIGHT
BEGIN:STANDARD
TZOFFSETFROM:-0500
TZOFFSETTO:-0600
TZNAME:CST
DTSTART:20151101T070000
END:STANDARD
BEGIN:DAYLIGHT
TZOFFSETFROM:-0600
TZOFFSETTO:-0500
TZNAME:CDT
DTSTART:20160313T080000
END:DAYLIGHT
BEGIN:STANDARD
TZOFFSETFROM:-0500
TZOFFSETTO:-0600
TZNAME:CST
DTSTART:20161106T070000
END:STANDARD
BEGIN:DAYLIGHT
TZOFFSETFROM:-0600
TZOFFSETTO:-0500
TZNAME:CDT
DTSTART:20170312T080000
END:DAYLIGHT
BEGIN:STANDARD
TZOFFSETFROM:-0500
TZOFFSETTO:-0600
TZNAME:CST
DTSTART:20171105T070000
END:STANDARD
END:VTIMEZONE
BEGIN:VEVENT
DTSTART;TZID=America/Chicago:20160501T120000
DTEND;TZID=America/Chicago:20160501T160000
DTSTAMP:20260419T080751
CREATED:20160318T001929Z
LAST-MODIFIED:20160324T201611Z
UID:10000026-1462104000-1462118400@hpjc.org
SUMMARY:March for Dignity & Justice
DESCRIPTION:Join the diverse Houston Immigrant\, Workers’ Rights and Social Justice community as we take to the streets on Houston’s southwest side and make our voices heard! We will meet up at the corner of Renwick and Bellaire at 12 pm\, and march to Burnett Bayland Park (6000 Chimney Rock Rd) at 1pm where we will hold a community rally. RSVP on Facebook!
URL:https://hpjc.org/event/march-for-dignity-justice/
LOCATION:Renwick and Bellaire\, Renwick Dr. and Bellaire Blvd.\, Houston\, TX\, 77081\, United States
CATEGORIES:Economic Justice,Human Rights & Criminal Justice
ATTACH;FMTTYPE=image/jpeg:https://hpjc.org/wp-content/uploads/2016/03/10295662_10153550517772198_4700715957370223588_n.jpg
GEO:29.7054585;-95.4845976
X-APPLE-STRUCTURED-LOCATION;VALUE=URI;X-ADDRESS=Renwick and Bellaire Renwick Dr. and Bellaire Blvd. Houston TX 77081 United States;X-APPLE-RADIUS=500;X-TITLE=Renwick Dr. and Bellaire Blvd.:geo:-95.4845976,29.7054585
END:VEVENT
END:VCALENDAR