BEGIN:VCALENDAR
VERSION:2.0
PRODID:-//Houston Peace &amp; Justice Center - ECPv6.15.20//NONSGML v1.0//EN
CALSCALE:GREGORIAN
METHOD:PUBLISH
X-WR-CALNAME:Houston Peace &amp; Justice Center
X-ORIGINAL-URL:https://hpjc.org
X-WR-CALDESC:Events for Houston Peace &amp; Justice Center
REFRESH-INTERVAL;VALUE=DURATION:PT1H
X-Robots-Tag:noindex
X-PUBLISHED-TTL:PT1H
BEGIN:VTIMEZONE
TZID:America/Chicago
BEGIN:DAYLIGHT
TZOFFSETFROM:-0600
TZOFFSETTO:-0500
TZNAME:CDT
DTSTART:20150308T080000
END:DAYLIGHT
BEGIN:STANDARD
TZOFFSETFROM:-0500
TZOFFSETTO:-0600
TZNAME:CST
DTSTART:20151101T070000
END:STANDARD
BEGIN:DAYLIGHT
TZOFFSETFROM:-0600
TZOFFSETTO:-0500
TZNAME:CDT
DTSTART:20160313T080000
END:DAYLIGHT
BEGIN:STANDARD
TZOFFSETFROM:-0500
TZOFFSETTO:-0600
TZNAME:CST
DTSTART:20161106T070000
END:STANDARD
BEGIN:DAYLIGHT
TZOFFSETFROM:-0600
TZOFFSETTO:-0500
TZNAME:CDT
DTSTART:20170312T080000
END:DAYLIGHT
BEGIN:STANDARD
TZOFFSETFROM:-0500
TZOFFSETTO:-0600
TZNAME:CST
DTSTART:20171105T070000
END:STANDARD
END:VTIMEZONE
BEGIN:VEVENT
DTSTART;TZID=America/Chicago:20160714T190000
DTEND;TZID=America/Chicago:20160714T220000
DTSTAMP:20260421T151507
CREATED:20160614T141640Z
LAST-MODIFIED:20160614T141640Z
UID:10000070-1468522800-1468533600@hpjc.org
SUMMARY:Summer Sounds on the Plaza - Walagante
DESCRIPTION:This summer\, bring your friends\, family and a blanket – and the Rothko Chapel will supply the music. \nSpend one Thursday a month at the Chapel\, exploring the Americas through music with “Summer Sounds on the Plaza.” \nThe indigenous cultures of Mexico\, Central America and South America will all be honored and celebrated in performances. \nThe suggested donation to attend is $10. To register\, please visit rothkochapel.org \nTo kick things off\, Danza Azteca Taxcayolotl will be performing at 7 p.m. on Thursday\, June 23. The grassroots Aztec dance group is dedicated to nurturing and preserving the indigenous cultures of México\, as well as showing how dance can foster unity and connectedness between all cultures. \nThe series continues with a performance by Walagante at 7 p.m. on Thursday\, July 14. The Houston-based ensemble features Garifuna music\, which relies on drums and maracas. This style of music was declared a “masterpiece of the oral and intangible heritage of humanity” by UNESCO in 2001. \nThe Rothko Chapel closes the series at 7 p.m. on Thursday\, Aug. 11\, with Wayanay Inka. Founded in Lima\, Peru\, the band has established an international reputation as an ambassador for Andean music\, which features chants\, drums and variations of pan flutes. \nPublic programs director Michelle Ashton said that sharing these concerts with the community is a highlight for the Chapel. \n“This will be a great opportunity to enjoy beautiful music outside\,” Ashton said. “It’s also a chance to celebrate and learn more about some of the remarkable and diverse indigenous cultures of the Americas.” \nRefreshments will be available during the concerts — with SweetCup selling gelato and complimentary beverages provided by Saint Arnold Brewing Company. \nFor more information about the Rothko Chapel and its calendar of upcoming programs\, workshops and events\, visit rothkochapel.org or call 713-524-9839.
URL:https://hpjc.org/event/summer-sounds-on-the-plaza-walagante/
LOCATION:Rothko Chapel\, 3900 Yupon\, Houston\, 77006
CATEGORIES:Live Performance
GEO:29.7378214;-95.3957425
X-APPLE-STRUCTURED-LOCATION;VALUE=URI;X-ADDRESS=Rothko Chapel 3900 Yupon Houston 77006;X-APPLE-RADIUS=500;X-TITLE=3900 Yupon:geo:-95.3957425,29.7378214
END:VEVENT
END:VCALENDAR