BEGIN:VCALENDAR
VERSION:2.0
PRODID:-//Houston Peace &amp; Justice Center - ECPv6.15.20//NONSGML v1.0//EN
CALSCALE:GREGORIAN
METHOD:PUBLISH
X-WR-CALNAME:Houston Peace &amp; Justice Center
X-ORIGINAL-URL:https://hpjc.org
X-WR-CALDESC:Events for Houston Peace &amp; Justice Center
REFRESH-INTERVAL;VALUE=DURATION:PT1H
X-Robots-Tag:noindex
X-PUBLISHED-TTL:PT1H
BEGIN:VTIMEZONE
TZID:America/Chicago
BEGIN:DAYLIGHT
TZOFFSETFROM:-0600
TZOFFSETTO:-0500
TZNAME:CDT
DTSTART:20150308T080000
END:DAYLIGHT
BEGIN:STANDARD
TZOFFSETFROM:-0500
TZOFFSETTO:-0600
TZNAME:CST
DTSTART:20151101T070000
END:STANDARD
BEGIN:DAYLIGHT
TZOFFSETFROM:-0600
TZOFFSETTO:-0500
TZNAME:CDT
DTSTART:20160313T080000
END:DAYLIGHT
BEGIN:STANDARD
TZOFFSETFROM:-0500
TZOFFSETTO:-0600
TZNAME:CST
DTSTART:20161106T070000
END:STANDARD
BEGIN:DAYLIGHT
TZOFFSETFROM:-0600
TZOFFSETTO:-0500
TZNAME:CDT
DTSTART:20170312T080000
END:DAYLIGHT
BEGIN:STANDARD
TZOFFSETFROM:-0500
TZOFFSETTO:-0600
TZNAME:CST
DTSTART:20171105T070000
END:STANDARD
END:VTIMEZONE
BEGIN:VEVENT
DTSTART;TZID=America/Chicago:20161214T113000
DTEND;TZID=America/Chicago:20161214T130000
DTSTAMP:20260419T112605
CREATED:20161201T162633Z
LAST-MODIFIED:20161201T163129Z
UID:10000117-1481715000-1481720400@hpjc.org
SUMMARY:Houston Food Policy Workgroup Potluck
DESCRIPTION:Wed\, Dec 14th\, 2016\n11:30 – 1 pm\n1920 West Clay St\nHouston\, TX 77019\nFree and open to the public\nBring a dish to share \nIt’s time again for our infamous year-end holiday potluck. Please join us as we reflect upon the successes of this year\, project our goals for the year ahead\, and celebrate local food and friendship in Houston. We’ll say thanks to Libby Kennedy for her service as co-chair\, and unveil the 2017 schedule. \nThe party will be hosted at Scott Howard’s house\, where we’ll tour his garden – which he has turned into a working commercial urban farm this year! Please bring a dish to share and your best holiday cheer.\nQuestions? Comments? Concerns? Contact:\nCo-Chairs: Libby Kennedy\, Rosalind Bello\nHouston Tomorrow: Caitlin McNeely\nVisit and like us on Facebook
URL:https://hpjc.org/event/houston-food-policy-workgroup-potluck/
LOCATION:Scott Howard Home\, 1920 West Clay St\, Houston\, TX\, 77019\, United States
CATEGORIES:Environmental & Environmental Justice,Social
ATTACH;FMTTYPE=image/jpeg:https://hpjc.org/wp-content/uploads/2016/12/hfpw-potluck.jpg
GEO:29.755436;-95.403052
X-APPLE-STRUCTURED-LOCATION;VALUE=URI;X-ADDRESS=Scott Howard Home 1920 West Clay St Houston TX 77019 United States;X-APPLE-RADIUS=500;X-TITLE=1920 West Clay St:geo:-95.403052,29.755436
END:VEVENT
END:VCALENDAR