BEGIN:VCALENDAR
VERSION:2.0
PRODID:-//Houston Peace &amp; Justice Center - ECPv6.15.20//NONSGML v1.0//EN
CALSCALE:GREGORIAN
METHOD:PUBLISH
X-WR-CALNAME:Houston Peace &amp; Justice Center
X-ORIGINAL-URL:https://hpjc.org
X-WR-CALDESC:Events for Houston Peace &amp; Justice Center
REFRESH-INTERVAL;VALUE=DURATION:PT1H
X-Robots-Tag:noindex
X-PUBLISHED-TTL:PT1H
BEGIN:VTIMEZONE
TZID:America/Chicago
BEGIN:DAYLIGHT
TZOFFSETFROM:-0600
TZOFFSETTO:-0500
TZNAME:CDT
DTSTART:20210314T080000
END:DAYLIGHT
BEGIN:STANDARD
TZOFFSETFROM:-0500
TZOFFSETTO:-0600
TZNAME:CST
DTSTART:20211107T070000
END:STANDARD
BEGIN:DAYLIGHT
TZOFFSETFROM:-0600
TZOFFSETTO:-0500
TZNAME:CDT
DTSTART:20220313T080000
END:DAYLIGHT
BEGIN:STANDARD
TZOFFSETFROM:-0500
TZOFFSETTO:-0600
TZNAME:CST
DTSTART:20221106T070000
END:STANDARD
BEGIN:DAYLIGHT
TZOFFSETFROM:-0600
TZOFFSETTO:-0500
TZNAME:CDT
DTSTART:20230312T080000
END:DAYLIGHT
BEGIN:STANDARD
TZOFFSETFROM:-0500
TZOFFSETTO:-0600
TZNAME:CST
DTSTART:20231105T070000
END:STANDARD
END:VTIMEZONE
BEGIN:VEVENT
DTSTART;TZID=America/Chicago:20220416T090000
DTEND;TZID=America/Chicago:20220416T113000
DTSTAMP:20260419T144058
CREATED:20220317T053356Z
LAST-MODIFIED:20220317T053357Z
UID:10001250-1650099600-1650108600@hpjc.org
SUMMARY:Forest Bathing & Earth Examen
DESCRIPTION:Experience forest bathing\, led by a certified guide\, followed by practice of the Christian spiritual discipline of the Earth Examen.  Forest bathing\, a practice that originated in Japan\, involves taking in\, in all of one’s senses\, the forest atmosphere. Not simply a walk in the woods\, it is the conscious and contemplative practice of being immersed in the sights\, sounds and smells of the forest.  Forest bathing has been shown to reduce stress\, improve mood and focus\, enhance creativity\, and lead to an increased sense of calm and altruistic behavior\, in addition to other benefits such as boosting the immune system and lowering blood pressure.  As Christians\, we understand that God is present in God’s creation\, and after our guided forest bath\, we’ll spend some time considering the Earth Examen as we reflect both on our time spent forest bathing and on our relationship with all creation.  This activity is for a small group and space is limited.  Please register at www.eventbrite.com at:  https://www.eventbrite.com/e/forest-bathing-earth-examen-tickets-291848535827. Contact Lisa Brenskelle at gcs.lrc@gmail.com with any questions.
URL:https://hpjc.org/event/forest-bathing-earth-examen/
LOCATION:Spring Creek Greenway &amp; Nature Center\, 1300 Riley Fuzzel Road\, Spring\, 77386
CATEGORIES:Environmental & Environmental Justice
ATTACH;FMTTYPE=image/jpeg:https://hpjc.org/wp-content/uploads/2022/03/walking-in-forest.jpg
ORGANIZER;CN="Christ the King Evangelical Lutheran Church":MAILTO:ctk@ctkelc.org
END:VEVENT
END:VCALENDAR