BEGIN:VCALENDAR
VERSION:2.0
PRODID:-//Houston Peace &amp; Justice Center - ECPv6.15.20//NONSGML v1.0//EN
CALSCALE:GREGORIAN
METHOD:PUBLISH
X-ORIGINAL-URL:https://hpjc.org
X-WR-CALDESC:Events for Houston Peace &amp; Justice Center
REFRESH-INTERVAL;VALUE=DURATION:PT1H
X-Robots-Tag:noindex
X-PUBLISHED-TTL:PT1H
BEGIN:VTIMEZONE
TZID:America/Chicago
BEGIN:DAYLIGHT
TZOFFSETFROM:-0600
TZOFFSETTO:-0500
TZNAME:CDT
DTSTART:20150308T080000
END:DAYLIGHT
BEGIN:STANDARD
TZOFFSETFROM:-0500
TZOFFSETTO:-0600
TZNAME:CST
DTSTART:20151101T070000
END:STANDARD
BEGIN:DAYLIGHT
TZOFFSETFROM:-0600
TZOFFSETTO:-0500
TZNAME:CDT
DTSTART:20160313T080000
END:DAYLIGHT
BEGIN:STANDARD
TZOFFSETFROM:-0500
TZOFFSETTO:-0600
TZNAME:CST
DTSTART:20161106T070000
END:STANDARD
BEGIN:DAYLIGHT
TZOFFSETFROM:-0600
TZOFFSETTO:-0500
TZNAME:CDT
DTSTART:20170312T080000
END:DAYLIGHT
BEGIN:STANDARD
TZOFFSETFROM:-0500
TZOFFSETTO:-0600
TZNAME:CST
DTSTART:20171105T070000
END:STANDARD
END:VTIMEZONE
BEGIN:VEVENT
DTSTART;TZID=America/Chicago:20161215T110000
DTEND;TZID=America/Chicago:20161215T170000
DTSTAMP:20260422T033539
CREATED:20161216T194500Z
LAST-MODIFIED:20161216T194500Z
UID:10000126-1481799600-1481821200@hpjc.org
SUMMARY:Emergency Phonebank 4 Aleppo
DESCRIPTION:Syrian regime\, Russian\, and Iranian-backed forces have taken control of 98% of Aleppo\, Syria. Civilians\, aid workers\, and activists in East Aleppo are sending out “final messages” to the world as pro-regime forces continue to close in on the city. \nSome 100\,000 civilians are crammed into 2 small districts awaiting a massacre after pro-regime military dominated by Iran-backed foreign fighters and Russian warplanes made rapid gains in East Aleppo over the past two weeks. Mass executions have been reported in multiple areas that the regime seized.  \nToo many of our elected officials are silent as genocide destroys lives. Together\, let’s call on the White House and Congress to rescue the 100\,000 civilians still trapped in Aleppo and to allow humanitarian organizations to safely provide aid. Together\, let’s answer the millions of cries for help with a message of hope. Together\, let’s make “Never Again” a reality for Syrians. \nJoin us at the University of Houston on Thursday\, Dec. 15th any time between 11 a.m. and 5 p.m. for a phone banking event to call on our representatives to answer to us. We’ll provide the scripts and the contact information — just bring yourself and a phone!
URL:https://hpjc.org/event/emergency-phonebank-4-aleppo/
LOCATION:Student Center Midtown Room – University of Houston\, 4455 University Drive\, Houston\, 77204
CATEGORIES:Human Rights & Criminal Justice
ATTACH;FMTTYPE=image/jpeg:https://hpjc.org/wp-content/uploads/2016/12/phone.jpg
GEO:29.7188196;-95.3388619
X-APPLE-STRUCTURED-LOCATION;VALUE=URI;X-ADDRESS=Student Center Midtown Room – University of Houston 4455 University Drive Houston 77204;X-APPLE-RADIUS=500;X-TITLE=4455 University Drive:geo:-95.3388619,29.7188196
END:VEVENT
END:VCALENDAR