BEGIN:VCALENDAR
VERSION:2.0
PRODID:-//Houston Peace &amp; Justice Center - ECPv6.15.20//NONSGML v1.0//EN
CALSCALE:GREGORIAN
METHOD:PUBLISH
X-WR-CALNAME:Houston Peace &amp; Justice Center
X-ORIGINAL-URL:https://hpjc.org
X-WR-CALDESC:Events for Houston Peace &amp; Justice Center
REFRESH-INTERVAL;VALUE=DURATION:PT1H
X-Robots-Tag:noindex
X-PUBLISHED-TTL:PT1H
BEGIN:VTIMEZONE
TZID:America/Chicago
BEGIN:DAYLIGHT
TZOFFSETFROM:-0600
TZOFFSETTO:-0500
TZNAME:CDT
DTSTART:20170312T080000
END:DAYLIGHT
BEGIN:STANDARD
TZOFFSETFROM:-0500
TZOFFSETTO:-0600
TZNAME:CST
DTSTART:20171105T070000
END:STANDARD
BEGIN:DAYLIGHT
TZOFFSETFROM:-0600
TZOFFSETTO:-0500
TZNAME:CDT
DTSTART:20180311T080000
END:DAYLIGHT
BEGIN:STANDARD
TZOFFSETFROM:-0500
TZOFFSETTO:-0600
TZNAME:CST
DTSTART:20181104T070000
END:STANDARD
BEGIN:DAYLIGHT
TZOFFSETFROM:-0600
TZOFFSETTO:-0500
TZNAME:CDT
DTSTART:20190310T080000
END:DAYLIGHT
BEGIN:STANDARD
TZOFFSETFROM:-0500
TZOFFSETTO:-0600
TZNAME:CST
DTSTART:20191103T070000
END:STANDARD
END:VTIMEZONE
BEGIN:VEVENT
DTSTART;TZID=America/Chicago:20180405T190000
DTEND;TZID=America/Chicago:20180405T210000
DTSTAMP:20260424T205315
CREATED:20180327T130019Z
LAST-MODIFIED:20180327T130019Z
UID:10000392-1522954800-1522962000@hpjc.org
SUMMARY:United We Dream - Community Gathering
DESCRIPTION:On Thursday\, April 5th\, United We Dream – Houston will be hosting a community gathering. We will be discussing important issues such as DREAM\, SB4\, Coming Elections and the launch of the new Houston Hotline. Please do not miss out on these important conversations now more than ever we need to unite and fight back to stop the deportation and separations of families. \nHola gente hermosa no se les olvide que este Jueves tenemos junta Comunitaria donde estaremos discutiendo sobre temas importantes como lo que esta pasando con el DREAM ACT\, la ley SB4 y las proximas elecciones asi como el lanzamiento de la nueva linea de ayuda para la comunidad imigrante. Por favor no falten ahora mas que nunca tenemos que unirnos y pelear para parar la deportacion y seperacion de familias.
URL:https://hpjc.org/event/united-we-dream-community-gathering/
LOCATION:United We Dream – Houston\, 1900 Kane St\, Rm 116\, Houston\, 77007
CATEGORIES:Human Rights & Criminal Justice,Social
ATTACH;FMTTYPE=image/png:https://hpjc.org/wp-content/uploads/2018/03/UnitedWeDream-Logo-2016-stroke.png
GEO:29.7658867;-95.3777937
X-APPLE-STRUCTURED-LOCATION;VALUE=URI;X-ADDRESS=United We Dream – Houston 1900 Kane St Rm 116 Houston 77007;X-APPLE-RADIUS=500;X-TITLE=1900 Kane St\, Rm 116:geo:-95.3777937,29.7658867
END:VEVENT
END:VCALENDAR